FILENAME: O4810652.NES.1137219.tif
QUADRANGLE_NAME: WHATELY
QUADRANT: NE
WEST_LONGITUDE: -106 33 45.00000
EAST_LONGITUDE: -106 30 0.00000
NORTH_LATITUDE: 48 15 0.00000
SOUTH_LATITUDE: 48 11 15.00000
PRODUCTION_DATE: 2001 3 23
RASTER_ORDER: LEFT_RIGHT/TOP_BOTTOM
BAND_ORGANIZATION: SINGLE FILE
BAND_CONTENT: BLACK&WHITE
BAND_CONTENT: UNDEFINED
BAND_CONTENT: UNDEFINED
BITS_PER_PIXEL: 8
SAMPLES_AND_LINES: 5436 7653
HORIZONTAL_DATUM: NAD83
HORIZONTAL_COORDINATE_SYSTEM: UTM
COORDINATE_ZONE: 13
HORIZONTAL_UNITS: meters
HORIZONTAL_RESOLUTION: 1.00000
SECONDARY_HORIZONTAL_DATUM: NAD27
XY_ORIGIN: 383519.00000 5345576.00000
SECONDARY_XY_ORIGIN: 383559.59600 5345353.82700
NATION: US
STATE: MT
NW_QUAD_CORNER_XY: 384010.37700 5345267.36900
NE_QUAD_CORNER_XY: 388649.84100 5345174.84200
SE_QUAD_CORNERY_XY: 388514.19600 5338228.22500
SW_QUAD_CORNER_XY: 383869.07800 5338320.77400
SECONDARY_NW_QUAD_XY: 384006.70800 5345048.47300
SECONDARY_NE_QUAD_XY: 388646.31800 5344955.94300
SECONDARY_SE_QUAD_XY: 388510.67400 5338009.33800
SECONDARY_SW_QUAD_XY: 383865.40900 5338101.89000
RMSE_XY: 1.55000
IMAGE_SOURCE: BLACK AND WHITE FILM
SOURCE_IMAGE_ID: NAPP 9110-113
SOURCE_IMAGE_DATE: 1996 8 11
SOURCE_DEM_DATE: 1998 0 0
AGENCY: WESTERN MAPPING CENTER (WMC)
PRODUCER: WOOLPERT LLP
PRODUCTION_SYSTEM: INTERGRAPH ISPM, ISIR
COMPRESSION: UNDEFINED
STANDARD_VERSION: 1996 12
METADATA_DATE: 2001 3 23
DATA_FILE_SIZE: 41607144
BYTE_COUNT: 5436
