FILENAME: O4810652.NWS.1137220.tif
QUADRANGLE_NAME: WHATELY
QUADRANT: NW
WEST_LONGITUDE: -106 37 30.00000
EAST_LONGITUDE: -106 33 45.00000
NORTH_LATITUDE: 48 15 0.00000
SOUTH_LATITUDE: 48 11 15.00000
PRODUCTION_DATE: 2001 3 23
RASTER_ORDER: LEFT_RIGHT/TOP_BOTTOM
BAND_ORGANIZATION: SINGLE FILE
BAND_CONTENT: BLACK&WHITE
BAND_CONTENT: UNDEFINED
BAND_CONTENT: UNDEFINED
BITS_PER_PIXEL: 8
SAMPLES_AND_LINES: 5442 7657
HORIZONTAL_DATUM: NAD83
HORIZONTAL_COORDINATE_SYSTEM: UTM
COORDINATE_ZONE: 13
HORIZONTAL_UNITS: meters
HORIZONTAL_RESOLUTION: 1.00000
SECONDARY_HORIZONTAL_DATUM: NAD27
XY_ORIGIN: 378874.00000 5345672.00000
SECONDARY_XY_ORIGIN: 378914.70600 5345449.91500
NATION: US
STATE: MT
NW_QUAD_CORNER_XY: 379370.92900 5345363.67400
NE_QUAD_CORNER_XY: 384010.37700 5345267.36900
SE_QUAD_CORNERY_XY: 383869.07800 5338320.77400
SW_QUAD_CORNER_XY: 379223.97600 5338417.10300
SECONDARY_NW_QUAD_XY: 379367.11300 5345144.78100
SECONDARY_NE_QUAD_XY: 384006.70800 5345048.47300
SECONDARY_SE_QUAD_XY: 383865.40900 5338101.89000
SECONDARY_SW_QUAD_XY: 379220.16000 5338198.22200
RMSE_XY: 1.78000
IMAGE_SOURCE: BLACK AND WHITE FILM
SOURCE_IMAGE_ID: NAPP 9110-166
SOURCE_IMAGE_DATE: 1996 8 11
SOURCE_DEM_DATE: 1998 0 0
AGENCY: WESTERN MAPPING CENTER (WMC)
PRODUCER: WOOLPERT LLP
PRODUCTION_SYSTEM: INTERGRAPH ISPM, ISIR
COMPRESSION: UNDEFINED
STANDARD_VERSION: 1996 12
METADATA_DATE: 2001 3 23
DATA_FILE_SIZE: 41674836
BYTE_COUNT: 5442
