FILENAME: O4810652.SES.1137221.tif
QUADRANGLE_NAME: WHATELY
QUADRANT: SE
WEST_LONGITUDE: -106 33 45.00000
EAST_LONGITUDE: -106 30 0.00000
NORTH_LATITUDE: 48 11 15.00000
SOUTH_LATITUDE: 48 7 30.00000
PRODUCTION_DATE: 2001 3 23
RASTER_ORDER: LEFT_RIGHT/TOP_BOTTOM
BAND_ORGANIZATION: SINGLE FILE
BAND_CONTENT: BLACK&WHITE
BAND_CONTENT: UNDEFINED
BAND_CONTENT: UNDEFINED
BITS_PER_PIXEL: 8
SAMPLES_AND_LINES: 5442 7653
HORIZONTAL_DATUM: NAD83
HORIZONTAL_COORDINATE_SYSTEM: UTM
COORDINATE_ZONE: 13
HORIZONTAL_UNITS: meters
HORIZONTAL_RESOLUTION: 1.00000
SECONDARY_HORIZONTAL_DATUM: NAD27
XY_ORIGIN: 383378.00000 5338629.00000
SECONDARY_XY_ORIGIN: 383418.71000 5338406.95300
NATION: US
STATE: MT
NW_QUAD_CORNER_XY: 383869.07800 5338320.77400
NE_QUAD_CORNER_XY: 388514.19600 5338228.22500
SE_QUAD_CORNERY_XY: 388378.68500 5331281.67900
SW_QUAD_CORNER_XY: 383727.91900 5331374.25000
SECONDARY_NW_QUAD_XY: 383865.40900 5338101.89000
SECONDARY_NE_QUAD_XY: 388510.67400 5338009.33800
SECONDARY_SE_QUAD_XY: 388375.16300 5331062.80500
SECONDARY_SW_QUAD_XY: 383724.25000 5331155.37900
RMSE_XY: 2.16000
IMAGE_SOURCE: BLACK AND WHITE FILM
SOURCE_IMAGE_ID: NAPP 9110-111
SOURCE_IMAGE_DATE: 1996 8 11
SOURCE_IMAGE_ID: NAPP 9110-110
SOURCE_IMAGE_DATE: 1996 8 11
SOURCE_DEM_DATE: 1998 0 0
AGENCY: WESTERN MAPPING CENTER (WMC)
PRODUCER: WOOLPERT LLP
PRODUCTION_SYSTEM: INTERGRAPH ISPM, ISIR
COMPRESSION: UNDEFINED
STANDARD_VERSION: 1996 12
METADATA_DATE: 2001 4 12
DATA_FILE_SIZE: 41653068
BYTE_COUNT: 5442
