FILENAME: O4810652.SWS.1137222.tif
QUADRANGLE_NAME: WHATELY
QUADRANT: SW
WEST_LONGITUDE: -106 37 30.00000
EAST_LONGITUDE: -106 33 45.00000
NORTH_LATITUDE: 48 11 15.00000
SOUTH_LATITUDE: 48 7 30.00000
PRODUCTION_DATE: 2001 3 23
RASTER_ORDER: LEFT_RIGHT/TOP_BOTTOM
BAND_ORGANIZATION: SINGLE FILE
BAND_CONTENT: BLACK&WHITE
BAND_CONTENT: UNDEFINED
BAND_CONTENT: UNDEFINED
BITS_PER_PIXEL: 8
SAMPLES_AND_LINES: 5448 7657
HORIZONTAL_DATUM: NAD83
HORIZONTAL_COORDINATE_SYSTEM: UTM
COORDINATE_ZONE: 13
HORIZONTAL_UNITS: meters
HORIZONTAL_RESOLUTION: 1.00000
SECONDARY_HORIZONTAL_DATUM: NAD27
XY_ORIGIN: 378727.00000 5338726.00000
SECONDARY_XY_ORIGIN: 378767.82300 5338504.02800
NATION: US
STATE: MT
NW_QUAD_CORNER_XY: 379223.97600 5338417.10300
NE_QUAD_CORNER_XY: 383869.07800 5338320.77400
SE_QUAD_CORNERY_XY: 383727.91900 5331374.25000
SW_QUAD_CORNER_XY: 379077.16700 5331470.60200
SECONDARY_NW_QUAD_XY: 379220.16000 5338198.22200
SECONDARY_NE_QUAD_XY: 383865.40900 5338101.89000
SECONDARY_SE_QUAD_XY: 383724.25000 5331155.37900
SECONDARY_SW_QUAD_XY: 379073.35200 5331251.73300
RMSE_XY: 2.21000
IMAGE_SOURCE: BLACK AND WHITE FILM
SOURCE_IMAGE_ID: NAPP 9110-168
SOURCE_IMAGE_DATE: 1996 8 11
SOURCE_DEM_DATE: 1998 0 0
AGENCY: WESTERN MAPPING CENTER (WMC)
PRODUCER: WOOLPERT LLP
PRODUCTION_SYSTEM: INTERGRAPH ISPM, ISIR
COMPRESSION: UNDEFINED
STANDARD_VERSION: 1996 12
METADATA_DATE: 2001 3 23
DATA_FILE_SIZE: 41720784
BYTE_COUNT: 5448
