FILENAME: O4810651.NWS.1137212.tif
QUADRANGLE_NAME: GLASGOW
QUADRANT: NW
WEST_LONGITUDE: -106 45 0.00000
EAST_LONGITUDE: -106 41 15.00000
NORTH_LATITUDE: 48 15 0.00000
SOUTH_LATITUDE: 48 11 15.00000
PRODUCTION_DATE: 2001 3 23
RASTER_ORDER: LEFT_RIGHT/TOP_BOTTOM
BAND_ORGANIZATION: SINGLE FILE
BAND_CONTENT: BLACK&WHITE
BAND_CONTENT: UNDEFINED
BAND_CONTENT: UNDEFINED
BITS_PER_PIXEL: 8
SAMPLES_AND_LINES: 5454 7664
HORIZONTAL_DATUM: NAD83
HORIZONTAL_COORDINATE_SYSTEM: UTM
COORDINATE_ZONE: 13
HORIZONTAL_UNITS: meters
HORIZONTAL_RESOLUTION: 1.00000
SECONDARY_HORIZONTAL_DATUM: NAD27
XY_ORIGIN: 369583.00000 5345876.00000
SECONDARY_XY_ORIGIN: 369623.93200 5345654.09700
NATION: US
STATE: MT
NW_QUAD_CORNER_XY: 370092.08200 5345567.61900
NE_QUAD_CORNER_XY: 374731.49700 5345463.75700
SE_QUAD_CORNERY_XY: 374578.88900 5338517.21100
SW_QUAD_CORNER_XY: 369933.81900 5338621.09800
SECONDARY_NW_QUAD_XY: 370087.97200 5345348.73300
SECONDARY_NE_QUAD_XY: 374727.53400 5345244.86700
SECONDARY_SE_QUAD_XY: 374574.92700 5338298.33300
SECONDARY_SW_QUAD_XY: 369929.71000 5338402.22300
RMSE_XY: 1.69000
IMAGE_SOURCE: BLACK AND WHITE FILM
SOURCE_IMAGE_ID: NAPP 9111-184
SOURCE_IMAGE_DATE: 1996 8 11
SOURCE_DEM_DATE: 1998 0 0
AGENCY: WESTERN MAPPING CENTER (WMC)
PRODUCER: WOOLPERT LLP
PRODUCTION_SYSTEM: INTERGRAPH ISPM, ISIR
COMPRESSION: UNDEFINED
STANDARD_VERSION: 1996 12
METADATA_DATE: 2001 3 23
DATA_FILE_SIZE: 41804910
BYTE_COUNT: 5454
