FILENAME: O4810650.NES.1137199.tif
QUADRANGLE_NAME: ENGSTROM RANCH
QUADRANT: NE
WEST_LONGITUDE: -106 48 45.00000
EAST_LONGITUDE: -106 45 0.00000
NORTH_LATITUDE: 48 15 0.00000
SOUTH_LATITUDE: 48 11 15.00000
PRODUCTION_DATE: 2001 3 21
RASTER_ORDER: LEFT_RIGHT/TOP_BOTTOM
BAND_ORGANIZATION: SINGLE FILE
BAND_CONTENT: BLACK&WHITE
BAND_CONTENT: UNDEFINED
BAND_CONTENT: UNDEFINED
BITS_PER_PIXEL: 8
SAMPLES_AND_LINES: 5460 7668
HORIZONTAL_DATUM: NAD83
HORIZONTAL_COORDINATE_SYSTEM: UTM
COORDINATE_ZONE: 13
HORIZONTAL_UNITS: meters
HORIZONTAL_RESOLUTION: 1.00000
SECONDARY_HORIZONTAL_DATUM: NAD27
XY_ORIGIN: 364938.00000 5345984.00000
SECONDARY_XY_ORIGIN: 364979.09000 5345762.26400
NATION: US
STATE: MT
NW_QUAD_CORNER_XY: 365452.68400 5345675.26000
NE_QUAD_CORNER_XY: 370092.08200 5345567.61900
SE_QUAD_CORNERY_XY: 369933.81900 5338621.09800
SW_QUAD_CORNER_XY: 365288.76500 5338728.76500
SECONDARY_NW_QUAD_XY: 365448.42700 5345456.37700
SECONDARY_NE_QUAD_XY: 370087.97200 5345348.73300
SECONDARY_SE_QUAD_XY: 369929.71000 5338402.22300
SECONDARY_SW_QUAD_XY: 365284.51000 5338509.89400
RMSE_XY: 1.86000
IMAGE_SOURCE: BLACK AND WHITE FILM
SOURCE_IMAGE_ID: NAPP 9109-067
SOURCE_IMAGE_DATE: 1996 8 11
SOURCE_DEM_DATE: 1998 0 0
AGENCY: WESTERN MAPPING CENTER (WMC)
PRODUCER: WOOLPERT LLP
PRODUCTION_SYSTEM: INTERGRAPH ISPM, ISIR
COMPRESSION: UNDEFINED
STANDARD_VERSION: 1996 12
METADATA_DATE: 2001 3 21
DATA_FILE_SIZE: 41872740
BYTE_COUNT: 5460
