FILENAME: O4810650.SWS.1137202.tif
QUADRANGLE_NAME: ENGSTROM RANCH
QUADRANT: SW
WEST_LONGITUDE: -106 52 30.00000
EAST_LONGITUDE: -106 48 45.00000
NORTH_LATITUDE: 48 11 15.00000
SOUTH_LATITUDE: 48 7 30.00000
PRODUCTION_DATE: 2001 3 21
RASTER_ORDER: LEFT_RIGHT/TOP_BOTTOM
BAND_ORGANIZATION: SINGLE FILE
BAND_CONTENT: BLACK&WHITE
BAND_CONTENT: UNDEFINED
BAND_CONTENT: UNDEFINED
BITS_PER_PIXEL: 8
SAMPLES_AND_LINES: 5471 7671
HORIZONTAL_DATUM: NAD83
HORIZONTAL_COORDINATE_SYSTEM: UTM
COORDINATE_ZONE: 13
HORIZONTAL_UNITS: meters
HORIZONTAL_RESOLUTION: 1.00000
SECONDARY_HORIZONTAL_DATUM: NAD27
XY_ORIGIN: 360123.00000 5339148.00000
SECONDARY_XY_ORIGIN: 360164.37000 5338926.48500
NATION: US
STATE: MT
NW_QUAD_CORNER_XY: 360643.73000 5338840.21200
NE_QUAD_CORNER_XY: 365288.76500 5338728.76500
SE_QUAD_CORNERY_XY: 365125.00900 5331782.33800
SW_QUAD_CORNER_XY: 360474.32300 5331893.81100
SECONDARY_NW_QUAD_XY: 360639.32700 5338621.34400
SECONDARY_NE_QUAD_XY: 365284.51000 5338509.89400
SECONDARY_SE_QUAD_XY: 365120.75300 5331563.47900
SECONDARY_SW_QUAD_XY: 360469.92100 5331674.95600
RMSE_XY: 2.35000
IMAGE_SOURCE: BLACK AND WHITE FILM
SOURCE_IMAGE_ID: NAPP 9085-029
SOURCE_IMAGE_DATE: 1996 6 13
SOURCE_DEM_DATE: 1998 0 0
AGENCY: WESTERN MAPPING CENTER (WMC)
PRODUCER: WOOLPERT LLP
PRODUCTION_SYSTEM: INTERGRAPH ISPM, ISIR
COMPRESSION: UNDEFINED
STANDARD_VERSION: 1996 12
METADATA_DATE: 2001 3 21
DATA_FILE_SIZE: 41973512
BYTE_COUNT: 5471
