FILENAME: O4810649.SES.1137169.tif
QUADRANGLE_NAME: BILLICK COULEE
QUADRANT: SE
WEST_LONGITUDE: -106 56 15.00000
EAST_LONGITUDE: -106 52 30.00000
NORTH_LATITUDE: 48 11 15.00000
SOUTH_LATITUDE: 48 7 30.00000
PRODUCTION_DATE: 2001 3 1
RASTER_ORDER: LEFT_RIGHT/TOP_BOTTOM
BAND_ORGANIZATION: SINGLE FILE
BAND_CONTENT: BLACK&WHITE
BAND_CONTENT: UNDEFINED
BAND_CONTENT: UNDEFINED
BITS_PER_PIXEL: 8
SAMPLES_AND_LINES: 5477 7675
HORIZONTAL_DATUM: NAD83
HORIZONTAL_COORDINATE_SYSTEM: UTM
COORDINATE_ZONE: 13
HORIZONTAL_UNITS: meters
HORIZONTAL_RESOLUTION: 1.00000
SECONDARY_HORIZONTAL_DATUM: NAD27
XY_ORIGIN: 355472.00000 5339263.00000
SECONDARY_XY_ORIGIN: 355513.52900 5339041.63500
NATION: US
STATE: MT
NW_QUAD_CORNER_XY: 355998.71300 5338955.43900
NE_QUAD_CORNER_XY: 360643.73000 5338840.21200
SE_QUAD_CORNERY_XY: 360474.32300 5331893.81100
SW_QUAD_CORNER_XY: 355823.65500 5332009.06600
SECONDARY_NW_QUAD_XY: 355994.16300 5338736.57500
SECONDARY_NE_QUAD_XY: 360639.32700 5338621.34400
SECONDARY_SE_QUAD_XY: 360469.92100 5331674.95600
SECONDARY_SW_QUAD_XY: 355819.10600 5331790.21500
RMSE_XY: 2.11000
IMAGE_SOURCE: BLACK AND WHITE FILM
SOURCE_IMAGE_ID: NAPP 9085-086
SOURCE_IMAGE_DATE: 1996 6 13
SOURCE_DEM_DATE: 1998 0 0
AGENCY: WESTERN MAPPING CENTER (WMC)
PRODUCER: WOOLPERT LLP
PRODUCTION_SYSTEM: INTERGRAPH ISPM, ISIR
COMPRESSION: UNDEFINED
STANDARD_VERSION: 1996 12
METADATA_DATE: 2001 3 1
DATA_FILE_SIZE: 42041452
BYTE_COUNT: 5477
