FILENAME: O4810649.SWS.1137170.tif
QUADRANGLE_NAME: BILLICK COULEE
QUADRANT: SW
WEST_LONGITUDE: -107 0 0.00000
EAST_LONGITUDE: -106 56 15.00000
NORTH_LATITUDE: 48 11 15.00000
SOUTH_LATITUDE: 48 7 30.00000
PRODUCTION_DATE: 2001 3 1
RASTER_ORDER: LEFT_RIGHT/TOP_BOTTOM
BAND_ORGANIZATION: SINGLE FILE
BAND_CONTENT: BLACK&WHITE
BAND_CONTENT: UNDEFINED
BAND_CONTENT: UNDEFINED
BITS_PER_PIXEL: 8
SAMPLES_AND_LINES: 5483 7678
HORIZONTAL_DATUM: NAD83
HORIZONTAL_COORDINATE_SYSTEM: UTM
COORDINATE_ZONE: 13
HORIZONTAL_UNITS: meters
HORIZONTAL_RESOLUTION: 1.00000
SECONDARY_HORIZONTAL_DATUM: NAD27
XY_ORIGIN: 350821.00000 5339382.00000
SECONDARY_XY_ORIGIN: 350862.69200 5339160.78800
NATION: US
STATE: MT
NW_QUAD_CORNER_XY: 351353.71400 5339074.44600
NE_QUAD_CORNER_XY: 355998.71300 5338955.43900
SE_QUAD_CORNERY_XY: 355823.65500 5332009.06600
SW_QUAD_CORNER_XY: 351173.00600 5332128.10200
SECONDARY_NW_QUAD_XY: 351349.01800 5338855.58600
SECONDARY_NE_QUAD_XY: 355994.16300 5338736.57500
SECONDARY_SE_QUAD_XY: 355819.10600 5331790.21500
SECONDARY_SW_QUAD_XY: 351168.31000 5331909.25400
RMSE_XY: 2.28000
IMAGE_SOURCE: BLACK AND WHITE FILM
SOURCE_IMAGE_ID: NAPP 9101-035
SOURCE_IMAGE_DATE: 1996 7 15
SOURCE_DEM_DATE: 1998 0 0
AGENCY: WESTERN MAPPING CENTER (WMC)
PRODUCER: WOOLPERT LLP
PRODUCTION_SYSTEM: INTERGRAPH ISPM, ISIR
COMPRESSION: UNDEFINED
STANDARD_VERSION: 1996 12
METADATA_DATE: 2001 3 1
DATA_FILE_SIZE: 42103957
BYTE_COUNT: 5483
