FILENAME: O4810648.SWS.1164412.tif
QUADRANGLE_NAME: HAUCK COULEE
QUADRANT: SW
WEST_LONGITUDE: -106 7 30.00000
EAST_LONGITUDE: -106 3 45.00000
NORTH_LATITUDE: 48 18 45.00000
SOUTH_LATITUDE: 48 15 0.00000
PRODUCTION_DATE: 2001 9 15
RASTER_ORDER: LEFT_RIGHT/TOP_BOTTOM
BAND_ORGANIZATION: SINGLE FILE
BAND_CONTENT: BLACK&WHITE
BAND_CONTENT: UNDEFINED
BAND_CONTENT: UNDEFINED
BITS_PER_PIXEL: 8
SAMPLES_AND_LINES: 5389 7627
HORIZONTAL_DATUM: NAD83
HORIZONTAL_COORDINATE_SYSTEM: UTM
COORDINATE_ZONE: 13
HORIZONTAL_UNITS: meters
HORIZONTAL_RESOLUTION: 1.00000
SECONDARY_HORIZONTAL_DATUM: NAD27
XY_ORIGIN: 416139.00000 5351954.00000
SECONDARY_XY_ORIGIN: 416179.00800 5351731.92400
NATION: US
STATE: MT
NW_QUAD_CORNER_XY: 416588.73800 5351645.82000
NE_QUAD_CORNER_XY: 421222.63400 5351579.75200
SE_QUAD_CORNERY_XY: 421126.46700 5344632.93000
SW_QUAD_CORNER_XY: 416486.91300 5344699.01400
SECONDARY_NW_QUAD_XY: 416586.09600 5351426.89500
SECONDARY_NE_QUAD_XY: 421220.13900 5351360.82500
SECONDARY_SE_QUAD_XY: 421123.97200 5344414.01400
SECONDARY_SW_QUAD_XY: 416484.27100 5344480.10000
RMSE_XY: 3.28000
IMAGE_SOURCE: BLACK AND WHITE FILM
SOURCE_IMAGE_ID: NAPP 9095-177
SOURCE_IMAGE_DATE: 1996 7 9
SOURCE_DEM_DATE: 1998 0 0
AGENCY: WESTERN MAPPING CENTER (WMC)
PRODUCER: WOOLPERT LLP
PRODUCTION_SYSTEM: INTERGRAPH ISPM, ISIR
COMPRESSION: UNDEFINED
STANDARD_VERSION: 1996 12
METADATA_DATE: 2001 9 17
DATA_FILE_SIZE: 41107292
BYTE_COUNT: 5389
