FILENAME: O4810647.SES.1164399.tif
QUADRANGLE_NAME: SPRING CREEK SW
QUADRANT: SE
WEST_LONGITUDE: -106 11 15.00000
EAST_LONGITUDE: -106 7 30.00000
NORTH_LATITUDE: 48 18 45.00000
SOUTH_LATITUDE: 48 15 0.00000
PRODUCTION_DATE: 2001 9 15
RASTER_ORDER: LEFT_RIGHT/TOP_BOTTOM
BAND_ORGANIZATION: SINGLE FILE
BAND_CONTENT: BLACK&WHITE
BAND_CONTENT: UNDEFINED
BAND_CONTENT: UNDEFINED
BITS_PER_PIXEL: 8
SAMPLES_AND_LINES: 5395 7630
HORIZONTAL_DATUM: NAD83
HORIZONTAL_COORDINATE_SYSTEM: UTM
COORDINATE_ZONE: 13
HORIZONTAL_UNITS: meters
HORIZONTAL_RESOLUTION: 1.00000
SECONDARY_HORIZONTAL_DATUM: NAD27
XY_ORIGIN: 411499.00000 5352024.00000
SECONDARY_XY_ORIGIN: 411539.03000 5351801.86000
NATION: US
STATE: MT
NW_QUAD_CORNER_XY: 411954.85300 5351715.66300
NE_QUAD_CORNER_XY: 416588.73800 5351645.82000
SE_QUAD_CORNERY_XY: 416486.91300 5344699.01400
SW_QUAD_CORNER_XY: 411847.36900 5344768.87500
SECONDARY_NW_QUAD_XY: 411952.06400 5351496.74100
SECONDARY_NE_QUAD_XY: 416586.09600 5351426.89500
SECONDARY_SE_QUAD_XY: 416484.27100 5344480.10000
SECONDARY_SW_QUAD_XY: 411844.58100 5344549.96300
RMSE_XY: 4.15000
IMAGE_SOURCE: BLACK AND WHITE FILM
SOURCE_IMAGE_ID: NAPP 9095-188
SOURCE_IMAGE_DATE: 1996 7 9
SOURCE_DEM_DATE: 1998 0 0
AGENCY: WESTERN MAPPING CENTER (WMC)
PRODUCER: WOOLPERT LLP
PRODUCTION_SYSTEM: INTERGRAPH ISPM, ISIR
COMPRESSION: UNDEFINED
STANDARD_VERSION: 1996 12
METADATA_DATE: 2001 9 17
DATA_FILE_SIZE: 41169245
BYTE_COUNT: 5395
