FILENAME: O4810647.SWS.1164400.tif
QUADRANGLE_NAME: SPRING CREEK SW
QUADRANT: SW
WEST_LONGITUDE: -106 15 0.00000
EAST_LONGITUDE: -106 11 15.00000
NORTH_LATITUDE: 48 18 45.00000
SOUTH_LATITUDE: 48 15 0.00000
PRODUCTION_DATE: 2001 9 15
RASTER_ORDER: LEFT_RIGHT/TOP_BOTTOM
BAND_ORGANIZATION: SINGLE FILE
BAND_CONTENT: BLACK&WHITE
BAND_CONTENT: UNDEFINED
BAND_CONTENT: UNDEFINED
BITS_PER_PIXEL: 8
SAMPLES_AND_LINES: 5401 7635
HORIZONTAL_DATUM: NAD83
HORIZONTAL_COORDINATE_SYSTEM: UTM
COORDINATE_ZONE: 13
HORIZONTAL_UNITS: meters
HORIZONTAL_RESOLUTION: 1.00000
SECONDARY_HORIZONTAL_DATUM: NAD27
XY_ORIGIN: 406859.00000 5352098.00000
SECONDARY_XY_ORIGIN: 406899.05900 5351875.79700
NATION: US
STATE: MT
NW_QUAD_CORNER_XY: 407320.97900 5351789.28400
NE_QUAD_CORNER_XY: 411954.85300 5351715.66300
SE_QUAD_CORNERY_XY: 411847.36900 5344768.87500
SW_QUAD_CORNER_XY: 407207.83700 5344842.51400
SECONDARY_NW_QUAD_XY: 407318.04400 5351570.36300
SECONDARY_NE_QUAD_XY: 411952.06400 5351496.74100
SECONDARY_SE_QUAD_XY: 411844.58100 5344549.96300
SECONDARY_SW_QUAD_XY: 407204.90200 5344623.60400
RMSE_XY: 5.02000
IMAGE_SOURCE: BLACK AND WHITE FILM
SOURCE_IMAGE_ID: NAPP 9122-108
SOURCE_IMAGE_DATE: 1996 9 11
SOURCE_DEM_DATE: 1998 0 0
AGENCY: WESTERN MAPPING CENTER (WMC)
PRODUCER: WOOLPERT LLP
PRODUCTION_SYSTEM: INTERGRAPH ISPM, ISIR
COMPRESSION: UNDEFINED
STANDARD_VERSION: 1996 12
METADATA_DATE: 2001 9 17
DATA_FILE_SIZE: 41242036
BYTE_COUNT: 5401
