FILENAME: O4810646.NES.1164457.tif
QUADRANGLE_NAME: SARGENT CREEK
QUADRANT: NE
WEST_LONGITUDE: -106 18 45.00000
EAST_LONGITUDE: -106 15 0.00000
NORTH_LATITUDE: 48 22 30.00000
SOUTH_LATITUDE: 48 18 45.00000
PRODUCTION_DATE: 2001 9 15
RASTER_ORDER: LEFT_RIGHT/TOP_BOTTOM
BAND_ORGANIZATION: SINGLE FILE
BAND_CONTENT: BLACK&WHITE
BAND_CONTENT: UNDEFINED
BAND_CONTENT: UNDEFINED
BITS_PER_PIXEL: 8
SAMPLES_AND_LINES: 5402 7638
HORIZONTAL_DATUM: NAD83
HORIZONTAL_COORDINATE_SYSTEM: UTM
COORDINATE_ZONE: 13
HORIZONTAL_UNITS: meters
HORIZONTAL_RESOLUTION: 1.00000
SECONDARY_HORIZONTAL_DATUM: NAD27
XY_ORIGIN: 402338.00000 5359122.00000
SECONDARY_XY_ORIGIN: 402378.05500 5358899.66500
NATION: US
STATE: MT
NW_QUAD_CORNER_XY: 402806.03600 5358813.50300
NE_QUAD_CORNER_XY: 407434.23200 5358736.12600
SE_QUAD_CORNERY_XY: 407320.97900 5351789.28400
SW_QUAD_CORNER_XY: 402687.11900 5351866.68000
SECONDARY_NW_QUAD_XY: 402802.95300 5358594.57500
SECONDARY_NE_QUAD_XY: 407431.29700 5358517.19500
SECONDARY_SE_QUAD_XY: 407318.04400 5351570.36300
SECONDARY_SW_QUAD_XY: 402684.03600 5351647.76200
RMSE_XY: 4.23000
IMAGE_SOURCE: BLACK AND WHITE FILM
SOURCE_IMAGE_ID: NAPP 9122-065
SOURCE_IMAGE_DATE: 1996 9 11
SOURCE_DEM_DATE: 1998 0 0
AGENCY: WESTERN MAPPING CENTER (WMC)
PRODUCER: WOOLPERT LLP
PRODUCTION_SYSTEM: INTERGRAPH ISPM, ISIR
COMPRESSION: UNDEFINED
STANDARD_VERSION: 1996 12
METADATA_DATE: 2001 9 17
DATA_FILE_SIZE: 41265878
BYTE_COUNT: 5402
