FILENAME: O4810646.NWS.1164458.tif
QUADRANGLE_NAME: SARGENT CREEK
QUADRANT: NW
WEST_LONGITUDE: -106 22 30.00000
EAST_LONGITUDE: -106 18 45.00000
NORTH_LATITUDE: 48 22 30.00000
SOUTH_LATITUDE: 48 18 45.00000
PRODUCTION_DATE: 2001 9 15
RASTER_ORDER: LEFT_RIGHT/TOP_BOTTOM
BAND_ORGANIZATION: SINGLE FILE
BAND_CONTENT: BLACK&WHITE
BAND_CONTENT: UNDEFINED
BAND_CONTENT: UNDEFINED
BITS_PER_PIXEL: 8
SAMPLES_AND_LINES: 5408 7643
HORIZONTAL_DATUM: NAD83
HORIZONTAL_COORDINATE_SYSTEM: UTM
COORDINATE_ZONE: 13
HORIZONTAL_UNITS: meters
HORIZONTAL_RESOLUTION: 1.00000
SECONDARY_HORIZONTAL_DATUM: NAD27
XY_ORIGIN: 397704.00000 5359204.00000
SECONDARY_XY_ORIGIN: 397744.12700 5358981.63000
NATION: US
STATE: MT
NW_QUAD_CORNER_XY: 398177.85300 5358894.65600
NE_QUAD_CORNER_XY: 402806.03600 5358813.50300
SE_QUAD_CORNERY_XY: 402687.11900 5351866.68000
SW_QUAD_CORNER_XY: 398053.27100 5351947.85300
SECONDARY_NW_QUAD_XY: 398174.62400 5358675.73000
SECONDARY_NE_QUAD_XY: 402802.95300 5358594.57500
SECONDARY_SE_QUAD_XY: 402684.03600 5351647.76200
SECONDARY_SW_QUAD_XY: 398050.04200 5351728.93800
RMSE_XY: 2.89000
IMAGE_SOURCE: BLACK AND WHITE FILM
SOURCE_IMAGE_ID: NAPP 9109-240
SOURCE_IMAGE_DATE: 1996 8 11
SOURCE_DEM_DATE: 1998 0 0
AGENCY: WESTERN MAPPING CENTER (WMC)
PRODUCER: WOOLPERT LLP
PRODUCTION_SYSTEM: INTERGRAPH ISPM, ISIR
COMPRESSION: UNDEFINED
STANDARD_VERSION: 1996 12
METADATA_DATE: 2001 9 17
DATA_FILE_SIZE: 41338752
BYTE_COUNT: 5408
