FILENAME: O4810645.NES.1164385.tif
QUADRANGLE_NAME: UHLAN COULEE
QUADRANT: NE
WEST_LONGITUDE: -106 26 15.00000
EAST_LONGITUDE: -106 22 30.00000
NORTH_LATITUDE: 48 22 30.00000
SOUTH_LATITUDE: 48 18 45.00000
PRODUCTION_DATE: 2001 9 15
RASTER_ORDER: LEFT_RIGHT/TOP_BOTTOM
BAND_ORGANIZATION: SINGLE FILE
BAND_CONTENT: BLACK&WHITE
BAND_CONTENT: UNDEFINED
BAND_CONTENT: UNDEFINED
BITS_PER_PIXEL: 8
SAMPLES_AND_LINES: 5413 7647
HORIZONTAL_DATUM: NAD83
HORIZONTAL_COORDINATE_SYSTEM: UTM
COORDINATE_ZONE: 13
HORIZONTAL_UNITS: meters
HORIZONTAL_RESOLUTION: 1.00000
SECONDARY_HORIZONTAL_DATUM: NAD27
XY_ORIGIN: 393070.00000 5359289.00000
SECONDARY_XY_ORIGIN: 393110.19900 5359066.59500
NATION: US
STATE: MT
NW_QUAD_CORNER_XY: 393549.68400 5358979.58400
NE_QUAD_CORNER_XY: 398177.85300 5358894.65600
SE_QUAD_CORNERY_XY: 398053.27100 5351947.85300
SW_QUAD_CORNER_XY: 393419.43800 5352032.80300
SECONDARY_NW_QUAD_XY: 393546.30800 5358760.66100
SECONDARY_NE_QUAD_XY: 398174.62400 5358675.73000
SECONDARY_SE_QUAD_XY: 398050.04200 5351728.93800
SECONDARY_SW_QUAD_XY: 393416.06200 5351813.89000
RMSE_XY: 2.65000
IMAGE_SOURCE: BLACK AND WHITE FILM
SOURCE_IMAGE_ID: NAPP 9109-195
SOURCE_IMAGE_DATE: 1996 8 11
SOURCE_DEM_DATE: 1998 0 0
AGENCY: WESTERN MAPPING CENTER (WMC)
PRODUCER: WOOLPERT LLP
PRODUCTION_SYSTEM: INTERGRAPH ISPM, ISIR
COMPRESSION: UNDEFINED
STANDARD_VERSION: 1996 12
METADATA_DATE: 2001 9 15
DATA_FILE_SIZE: 41398624
BYTE_COUNT: 5413
