FILENAME: O4810644.NWS.1160143.tif
QUADRANGLE_NAME: HAWK COULEE
QUADRANT: NW
WEST_LONGITUDE: -106 37 30.00000
EAST_LONGITUDE: -106 33 45.00000
NORTH_LATITUDE: 48 22 30.00000
SOUTH_LATITUDE: 48 18 45.00000
PRODUCTION_DATE: 2001 8 23
RASTER_ORDER: LEFT_RIGHT/TOP_BOTTOM
BAND_ORGANIZATION: SINGLE FILE
BAND_CONTENT: BLACK&WHITE
BAND_CONTENT: UNDEFINED
BAND_CONTENT: UNDEFINED
BITS_PER_PIXEL: 8
SAMPLES_AND_LINES: 5431 7657
HORIZONTAL_DATUM: NAD83
HORIZONTAL_COORDINATE_SYSTEM: UTM
COORDINATE_ZONE: 13
HORIZONTAL_UNITS: meters
HORIZONTAL_RESOLUTION: 1.00000
SECONDARY_HORIZONTAL_DATUM: NAD27
XY_ORIGIN: 379168.00000 5359566.00000
SECONDARY_XY_ORIGIN: 379208.47300 5359343.76500
NATION: US
STATE: MT
NW_QUAD_CORNER_XY: 379665.26900 5359257.02500
NE_QUAD_CORNER_XY: 384293.39100 5359160.76900
SE_QUAD_CORNERY_XY: 384151.81500 5352214.03400
SW_QUAD_CORNER_XY: 379518.02700 5352310.31500
SECONDARY_NW_QUAD_XY: 379661.45200 5359038.11100
SECONDARY_NE_QUAD_XY: 384289.72200 5358941.85100
SECONDARY_SE_QUAD_XY: 384148.14500 5351995.12700
SECONDARY_SW_QUAD_XY: 379514.21000 5352091.41100
RMSE_XY: 4.18000
IMAGE_SOURCE: BLACK AND WHITE FILM
SOURCE_IMAGE_ID: NAPP 9110-162
SOURCE_IMAGE_DATE: 1996 8 11
SOURCE_DEM_DATE: 1998 0 0
AGENCY: WESTERN MAPPING CENTER (WMC)
PRODUCER: WOOLPERT LLP
PRODUCTION_SYSTEM: INTERGRAPH ISPM, ISIR
COMPRESSION: UNDEFINED
STANDARD_VERSION: 1996 12
METADATA_DATE: 2001 8 23
DATA_FILE_SIZE: 41590598
BYTE_COUNT: 5431
