FILENAME: O4810644.SES.1160144.tif
QUADRANGLE_NAME: HAWK COULEE
QUADRANT: SE
WEST_LONGITUDE: -106 33 45.00000
EAST_LONGITUDE: -106 30 0.00000
NORTH_LATITUDE: 48 18 45.00000
SOUTH_LATITUDE: 48 15 0.00000
PRODUCTION_DATE: 2001 8 23
RASTER_ORDER: LEFT_RIGHT/TOP_BOTTOM
BAND_ORGANIZATION: SINGLE FILE
BAND_CONTENT: BLACK&WHITE
BAND_CONTENT: UNDEFINED
BAND_CONTENT: UNDEFINED
BITS_PER_PIXEL: 8
SAMPLES_AND_LINES: 5430 7654
HORIZONTAL_DATUM: NAD83
HORIZONTAL_COORDINATE_SYSTEM: UTM
COORDINATE_ZONE: 13
HORIZONTAL_UNITS: meters
HORIZONTAL_RESOLUTION: 1.00000
SECONDARY_HORIZONTAL_DATUM: NAD27
XY_ORIGIN: 383661.00000 5352523.00000
SECONDARY_XY_ORIGIN: 383701.48400 5352300.74800
NATION: US
STATE: MT
NW_QUAD_CORNER_XY: 384151.81500 5352214.03400
NE_QUAD_CORNER_XY: 388785.61900 5352121.53000
SE_QUAD_CORNERY_XY: 388649.84100 5345174.84200
SW_QUAD_CORNER_XY: 384010.37700 5345267.36900
SECONDARY_NW_QUAD_XY: 384148.14500 5351995.12700
SECONDARY_NE_QUAD_XY: 388782.09600 5351902.62000
SECONDARY_SE_QUAD_XY: 388646.31800 5344955.94300
SECONDARY_SW_QUAD_XY: 384006.70800 5345048.47300
RMSE_XY: 3.97000
IMAGE_SOURCE: BLACK AND WHITE FILM
SOURCE_IMAGE_ID: NAPP 9110-115
SOURCE_IMAGE_DATE: 1996 8 11
SOURCE_DEM_DATE: 1998 0 0
AGENCY: WESTERN MAPPING CENTER (WMC)
PRODUCER: WOOLPERT LLP
PRODUCTION_SYSTEM: INTERGRAPH ISPM, ISIR
COMPRESSION: UNDEFINED
STANDARD_VERSION: 1996 12
METADATA_DATE: 2001 8 23
DATA_FILE_SIZE: 41566650
BYTE_COUNT: 5430
