FILENAME: O4810644.SWS.1160145.tif
QUADRANGLE_NAME: HAWK COULEE
QUADRANT: SW
WEST_LONGITUDE: -106 37 30.00000
EAST_LONGITUDE: -106 33 45.00000
NORTH_LATITUDE: 48 18 45.00000
SOUTH_LATITUDE: 48 15 0.00000
PRODUCTION_DATE: 2001 8 23
RASTER_ORDER: LEFT_RIGHT/TOP_BOTTOM
BAND_ORGANIZATION: SINGLE FILE
BAND_CONTENT: BLACK&WHITE
BAND_CONTENT: UNDEFINED
BAND_CONTENT: UNDEFINED
BITS_PER_PIXEL: 8
SAMPLES_AND_LINES: 5436 7657
HORIZONTAL_DATUM: NAD83
HORIZONTAL_COORDINATE_SYSTEM: UTM
COORDINATE_ZONE: 13
HORIZONTAL_UNITS: meters
HORIZONTAL_RESOLUTION: 1.00000
SECONDARY_HORIZONTAL_DATUM: NAD27
XY_ORIGIN: 379021.00000 5352619.00000
SECONDARY_XY_ORIGIN: 379061.58900 5352396.83900
NATION: US
STATE: MT
NW_QUAD_CORNER_XY: 379518.02700 5352310.31500
NE_QUAD_CORNER_XY: 384151.81500 5352214.03400
SE_QUAD_CORNERY_XY: 384010.37700 5345267.36900
SW_QUAD_CORNER_XY: 379370.92900 5345363.67400
SECONDARY_NW_QUAD_XY: 379514.21000 5352091.41100
SECONDARY_NE_QUAD_XY: 384148.14500 5351995.12700
SECONDARY_SE_QUAD_XY: 384006.70800 5345048.47300
SECONDARY_SW_QUAD_XY: 379367.11300 5345144.78100
RMSE_XY: 3.47000
IMAGE_SOURCE: BLACK AND WHITE FILM
SOURCE_IMAGE_ID: NAPP 9110-164
SOURCE_IMAGE_DATE: 1996 8 11
SOURCE_DEM_DATE: 1998 0 0
AGENCY: WESTERN MAPPING CENTER (WMC)
PRODUCER: WOOLPERT LLP
PRODUCTION_SYSTEM: INTERGRAPH ISPM, ISIR
COMPRESSION: UNDEFINED
STANDARD_VERSION: 1996 12
METADATA_DATE: 2001 8 23
DATA_FILE_SIZE: 41628888
BYTE_COUNT: 5436
