FILENAME: O4810643.NES.1137207.tif
QUADRANGLE_NAME: CHAPMAN COULEE
QUADRANT: NE
WEST_LONGITUDE: -106 41 15.00000
EAST_LONGITUDE: -106 37 30.00000
NORTH_LATITUDE: 48 22 30.00000
SOUTH_LATITUDE: 48 18 45.00000
PRODUCTION_DATE: 2001 3 23
RASTER_ORDER: LEFT_RIGHT/TOP_BOTTOM
BAND_ORGANIZATION: SINGLE FILE
BAND_CONTENT: BLACK&WHITE
BAND_CONTENT: UNDEFINED
BAND_CONTENT: UNDEFINED
BITS_PER_PIXEL: 8
SAMPLES_AND_LINES: 5437 7661
HORIZONTAL_DATUM: NAD83
HORIZONTAL_COORDINATE_SYSTEM: UTM
COORDINATE_ZONE: 13
HORIZONTAL_UNITS: meters
HORIZONTAL_RESOLUTION: 1.00000
SECONDARY_HORIZONTAL_DATUM: NAD27
XY_ORIGIN: 374534.00000 5359666.00000
SECONDARY_XY_ORIGIN: 374574.57300 5359443.86100
NATION: US
STATE: MT
NW_QUAD_CORNER_XY: 375037.16300 5359357.05800
NE_QUAD_CORNER_XY: 379665.26900 5359257.02500
SE_QUAD_CORNERY_XY: 379518.02700 5352310.31500
SW_QUAD_CORNER_XY: 374884.25500 5352410.37300
SECONDARY_NW_QUAD_XY: 375033.20000 5359138.14800
SECONDARY_NE_QUAD_XY: 379661.45200 5359038.11100
SECONDARY_SE_QUAD_XY: 379514.21000 5352091.41100
SECONDARY_SW_QUAD_XY: 374880.29200 5352191.47200
RMSE_XY: 1.96000
IMAGE_SOURCE: BLACK AND WHITE FILM
SOURCE_IMAGE_ID: NAPP 9111-135
SOURCE_IMAGE_DATE: 1996 8 11
SOURCE_DEM_DATE: 1998 0 0
AGENCY: WESTERN MAPPING CENTER (WMC)
PRODUCER: WOOLPERT LLP
PRODUCTION_SYSTEM: INTERGRAPH ISPM, ISIR
COMPRESSION: UNDEFINED
STANDARD_VERSION: 1996 12
METADATA_DATE: 2001 3 23
DATA_FILE_SIZE: 41658294
BYTE_COUNT: 5437
