FILENAME: O4810642.NES.1137175.tif
QUADRANGLE_NAME: TAMPICO
QUADRANT: NE
WEST_LONGITUDE: -106 48 45.00000
EAST_LONGITUDE: -106 45 0.00000
NORTH_LATITUDE: 48 22 30.00000
SOUTH_LATITUDE: 48 18 45.00000
PRODUCTION_DATE: 2001 3 21
RASTER_ORDER: LEFT_RIGHT/TOP_BOTTOM
BAND_ORGANIZATION: SINGLE FILE
BAND_CONTENT: BLACK&WHITE
BAND_CONTENT: UNDEFINED
BAND_CONTENT: UNDEFINED
BITS_PER_PIXEL: 8
SAMPLES_AND_LINES: 5449 7668
HORIZONTAL_DATUM: NAD83
HORIZONTAL_COORDINATE_SYSTEM: UTM
COORDINATE_ZONE: 13
HORIZONTAL_UNITS: meters
HORIZONTAL_RESOLUTION: 1.00000
SECONDARY_HORIZONTAL_DATUM: NAD27
XY_ORIGIN: 365266.00000 5359877.00000
SECONDARY_XY_ORIGIN: 365306.81900 5359655.13300
NATION: US
STATE: MT
NW_QUAD_CORNER_XY: 365781.00400 5359568.45500
NE_QUAD_CORNER_XY: 370409.07400 5359460.86800
SE_QUAD_CORNERY_XY: 370250.50000 5352514.20900
SW_QUAD_CORNER_XY: 365616.76300 5352621.82300
SECONDARY_NW_QUAD_XY: 365776.74700 5359349.55100
SECONDARY_NE_QUAD_XY: 370404.96400 5359241.96100
SECONDARY_SE_QUAD_XY: 370246.39100 5352295.31200
SECONDARY_SW_QUAD_XY: 365612.50700 5352402.92900
RMSE_XY: 1.62000
IMAGE_SOURCE: BLACK AND WHITE FILM
SOURCE_IMAGE_ID: NAPP 9109-071
SOURCE_IMAGE_DATE: 1996 8 11
SOURCE_DEM_DATE: 1998 0 0
AGENCY: WESTERN MAPPING CENTER (WMC)
PRODUCER: WOOLPERT LLP
PRODUCTION_SYSTEM: INTERGRAPH ISPM, ISIR
COMPRESSION: UNDEFINED
STANDARD_VERSION: 1996 12
METADATA_DATE: 2001 3 21
DATA_FILE_SIZE: 41788381
BYTE_COUNT: 5449
