FILENAME: O4810642.SES.1137182.tif
QUADRANGLE_NAME: TAMPICO
QUADRANT: SE
WEST_LONGITUDE: -106 48 45.00000
EAST_LONGITUDE: -106 45 0.00000
NORTH_LATITUDE: 48 18 45.00000
SOUTH_LATITUDE: 48 15 0.00000
PRODUCTION_DATE: 2001 3 21
RASTER_ORDER: LEFT_RIGHT/TOP_BOTTOM
BAND_ORGANIZATION: SINGLE FILE
BAND_CONTENT: BLACK&WHITE
BAND_CONTENT: UNDEFINED
BAND_CONTENT: UNDEFINED
BITS_PER_PIXEL: 8
SAMPLES_AND_LINES: 5454 7668
HORIZONTAL_DATUM: NAD83
HORIZONTAL_COORDINATE_SYSTEM: UTM
COORDINATE_ZONE: 13
HORIZONTAL_UNITS: meters
HORIZONTAL_RESOLUTION: 1.00000
SECONDARY_HORIZONTAL_DATUM: NAD27
XY_ORIGIN: 365102.00000 5352930.00000
SECONDARY_XY_ORIGIN: 365142.95400 5352708.19900
NATION: US
STATE: MT
NW_QUAD_CORNER_XY: 365616.76300 5352621.82300
NE_QUAD_CORNER_XY: 370250.50000 5352514.20900
SE_QUAD_CORNERY_XY: 370092.08200 5345567.61900
SW_QUAD_CORNER_XY: 365452.68400 5345675.26000
SECONDARY_NW_QUAD_XY: 365612.50700 5352402.92900
SECONDARY_NE_QUAD_XY: 370246.39100 5352295.31200
SECONDARY_SE_QUAD_XY: 370087.97200 5345348.73300
SECONDARY_SW_QUAD_XY: 365448.42700 5345456.37700
RMSE_XY: 1.67000
IMAGE_SOURCE: BLACK AND WHITE FILM
SOURCE_IMAGE_ID: NAPP 9109-069
SOURCE_IMAGE_DATE: 1996 8 11
SOURCE_DEM_DATE: 1998 0 0
AGENCY: WESTERN MAPPING CENTER (WMC)
PRODUCER: WOOLPERT LLP
PRODUCTION_SYSTEM: INTERGRAPH ISPM, ISIR
COMPRESSION: UNDEFINED
STANDARD_VERSION: 1996 12
METADATA_DATE: 2001 3 21
DATA_FILE_SIZE: 41826726
BYTE_COUNT: 5454
