FILENAME: O4810642.SWS.1137192.tif
QUADRANGLE_NAME: TAMPICO
QUADRANT: SW
WEST_LONGITUDE: -106 52 30.00000
EAST_LONGITUDE: -106 48 45.00000
NORTH_LATITUDE: 48 18 45.00000
SOUTH_LATITUDE: 48 15 0.00000
PRODUCTION_DATE: 2001 3 21
RASTER_ORDER: LEFT_RIGHT/TOP_BOTTOM
BAND_ORGANIZATION: SINGLE FILE
BAND_CONTENT: BLACK&WHITE
BAND_CONTENT: UNDEFINED
BAND_CONTENT: UNDEFINED
BITS_PER_PIXEL: 8
SAMPLES_AND_LINES: 5460 7671
HORIZONTAL_DATUM: NAD83
HORIZONTAL_COORDINATE_SYSTEM: UTM
COORDINATE_ZONE: 13
HORIZONTAL_UNITS: meters
HORIZONTAL_RESOLUTION: 1.00000
SECONDARY_HORIZONTAL_DATUM: NAD27
XY_ORIGIN: 360462.00000 5353041.00000
SECONDARY_XY_ORIGIN: 360503.10500 5352819.36700
NATION: US
STATE: MT
NW_QUAD_CORNER_XY: 360983.04400 5352733.21500
NE_QUAD_CORNER_XY: 365616.76300 5352621.82300
SE_QUAD_CORNERY_XY: 365452.68400 5345675.26000
SW_QUAD_CORNER_XY: 360813.30400 5345786.68000
SECONDARY_NW_QUAD_XY: 360978.64100 5352514.32500
SECONDARY_NE_QUAD_XY: 365612.50700 5352402.92900
SECONDARY_SE_QUAD_XY: 365448.42700 5345456.37700
SECONDARY_SW_QUAD_XY: 360808.90100 5345567.80000
RMSE_XY: 1.75000
IMAGE_SOURCE: BLACK AND WHITE FILM
SOURCE_IMAGE_ID: NAPP 9085-034
SOURCE_IMAGE_DATE: 1996 6 13
SOURCE_DEM_DATE: 1998 0 0
AGENCY: WESTERN MAPPING CENTER (WMC)
PRODUCER: WOOLPERT LLP
PRODUCTION_SYSTEM: INTERGRAPH ISPM, ISIR
COMPRESSION: UNDEFINED
STANDARD_VERSION: 1996 12
METADATA_DATE: 2001 3 21
DATA_FILE_SIZE: 41889120
BYTE_COUNT: 5460
