FILENAME: O4810641.SWS.1137166.tif
QUADRANGLE_NAME: VANDALIA
QUADRANT: SW
WEST_LONGITUDE: -107 0 0.00000
EAST_LONGITUDE: -106 56 15.00000
NORTH_LATITUDE: 48 18 45.00000
SOUTH_LATITUDE: 48 15 0.00000
PRODUCTION_DATE: 2001 3 1
RASTER_ORDER: LEFT_RIGHT/TOP_BOTTOM
BAND_ORGANIZATION: SINGLE FILE
BAND_CONTENT: BLACK&WHITE
BAND_CONTENT: UNDEFINED
BAND_CONTENT: UNDEFINED
BITS_PER_PIXEL: 8
SAMPLES_AND_LINES: 5472 7679
HORIZONTAL_DATUM: NAD83
HORIZONTAL_COORDINATE_SYSTEM: UTM
COORDINATE_ZONE: 13
HORIZONTAL_UNITS: meters
HORIZONTAL_RESOLUTION: 1.00000
SECONDARY_HORIZONTAL_DATUM: NAD27
XY_ORIGIN: 351183.00000 5353275.00000
SECONDARY_XY_ORIGIN: 351224.41000 5353053.70500
NATION: US
STATE: MT
NW_QUAD_CORNER_XY: 351715.66500 5352967.33500
NE_QUAD_CORNER_XY: 356349.34500 5352848.38600
SE_QUAD_CORNERY_XY: 356173.94200 5345901.87900
SW_QUAD_CORNER_XY: 351534.60000 5346020.85700
SECONDARY_NW_QUAD_XY: 351710.96800 5352748.45100
SECONDARY_NE_QUAD_XY: 356344.79500 5352629.49900
SECONDARY_SE_QUAD_XY: 356169.39300 5345683.00300
SECONDARY_SW_QUAD_XY: 351529.90400 5345801.98500
RMSE_XY: 1.81000
IMAGE_SOURCE: BLACK AND WHITE FILM
SOURCE_IMAGE_ID: NAPP 9101-039
SOURCE_IMAGE_DATE: 1996 7 15
SOURCE_DEM_DATE: 1998 0 0
AGENCY: WESTERN MAPPING CENTER (WMC)
PRODUCER: WOOLPERT LLP
PRODUCTION_SYSTEM: INTERGRAPH ISPM, ISIR
COMPRESSION: UNDEFINED
STANDARD_VERSION: 1996 12
METADATA_DATE: 2001 3 1
DATA_FILE_SIZE: 42024960
BYTE_COUNT: 5472
