FILENAME: O4810639.NWS.1164394.tif
QUADRANGLE_NAME: SPRING VALLEY WEST
QUADRANT: NW
WEST_LONGITUDE: -106 15 0.00000
EAST_LONGITUDE: -106 11 15.00000
NORTH_LATITUDE: 48 30 0.00000
SOUTH_LATITUDE: 48 26 15.00000
PRODUCTION_DATE: 2001 9 15
RASTER_ORDER: LEFT_RIGHT/TOP_BOTTOM
BAND_ORGANIZATION: SINGLE FILE
BAND_CONTENT: BLACK&WHITE
BAND_CONTENT: UNDEFINED
BAND_CONTENT: UNDEFINED
BITS_PER_PIXEL: 8
SAMPLES_AND_LINES: 5384 7635
HORIZONTAL_DATUM: NAD83
HORIZONTAL_COORDINATE_SYSTEM: UTM
COORDINATE_ZONE: 13
HORIZONTAL_UNITS: meters
HORIZONTAL_RESOLUTION: 1.00000
SECONDARY_HORIZONTAL_DATUM: NAD27
XY_ORIGIN: 407199.00000 5372939.00000
SECONDARY_XY_ORIGIN: 407238.83400 5372716.50500
NATION: US
STATE: MT
NW_QUAD_CORNER_XY: 407661.07100 5372630.02700
NE_QUAD_CORNER_XY: 412277.93500 5372556.46400
SE_QUAD_CORNERY_XY: 412170.13600 5365609.45800
SW_QUAD_CORNER_XY: 407547.59600 5365683.04100
SECONDARY_NW_QUAD_XY: 407658.13500 5372411.07900
SECONDARY_NE_QUAD_XY: 412275.14600 5372337.51300
SECONDARY_SE_QUAD_XY: 412167.34700 5365390.51600
SECONDARY_SW_QUAD_XY: 407544.66000 5365464.10100
RMSE_XY: 2.89000
IMAGE_SOURCE: BLACK AND WHITE FILM
SOURCE_IMAGE_ID: NAPP 9122-102
SOURCE_IMAGE_DATE: 1996 9 11
SOURCE_DEM_DATE: 1998 0 0
AGENCY: WESTERN MAPPING CENTER (WMC)
PRODUCER: WOOLPERT LLP
PRODUCTION_SYSTEM: INTERGRAPH ISPM, ISIR
COMPRESSION: UNDEFINED
STANDARD_VERSION: 1996 12
METADATA_DATE: 2001 9 17
DATA_FILE_SIZE: 41112224
BYTE_COUNT: 5384
