FILENAME: O4810638.NES.1164453.tif
QUADRANGLE_NAME: BULLHEAD RESERVOIR
QUADRANT: NE
WEST_LONGITUDE: -106 18 45.00000
EAST_LONGITUDE: -106 15 0.00000
NORTH_LATITUDE: 48 30 0.00000
SOUTH_LATITUDE: 48 26 15.00000
PRODUCTION_DATE: 2001 9 15
RASTER_ORDER: LEFT_RIGHT/TOP_BOTTOM
BAND_ORGANIZATION: SINGLE FILE
BAND_CONTENT: BLACK&WHITE
BAND_CONTENT: UNDEFINED
BAND_CONTENT: UNDEFINED
BITS_PER_PIXEL: 8
SAMPLES_AND_LINES: 5390 7638
HORIZONTAL_DATUM: NAD83
HORIZONTAL_COORDINATE_SYSTEM: UTM
COORDINATE_ZONE: 13
HORIZONTAL_UNITS: meters
HORIZONTAL_RESOLUTION: 1.00000
SECONDARY_HORIZONTAL_DATUM: NAD27
XY_ORIGIN: 402577.00000 5373016.00000
SECONDARY_XY_ORIGIN: 402616.89000 5372793.47400
NATION: US
STATE: MT
NW_QUAD_CORNER_XY: 403044.22000 5372707.36400
NE_QUAD_CORNER_XY: 407661.07100 5372630.02700
SE_QUAD_CORNERY_XY: 407547.59600 5365683.04100
SW_QUAD_CORNER_XY: 402925.06900 5365760.39800
SECONDARY_NW_QUAD_XY: 403041.13700 5372488.41800
SECONDARY_NE_QUAD_XY: 407658.13500 5372411.07900
SECONDARY_SE_QUAD_XY: 407544.66000 5365464.10100
SECONDARY_SW_QUAD_XY: 402921.98700 5365541.46000
RMSE_XY: 4.15000
IMAGE_SOURCE: BLACK AND WHITE FILM
SOURCE_IMAGE_ID: NAPP 9122-069
SOURCE_IMAGE_DATE: 1996 9 11
SOURCE_DEM_DATE: 1998 0 0
AGENCY: WESTERN MAPPING CENTER (WMC)
PRODUCER: WOOLPERT LLP
PRODUCTION_SYSTEM: INTERGRAPH ISPM, ISIR
COMPRESSION: UNDEFINED
STANDARD_VERSION: 1996 12
METADATA_DATE: 2001 9 17
DATA_FILE_SIZE: 41174210
BYTE_COUNT: 5390
