FILENAME: O4810638.NWS.1164454.tif
QUADRANGLE_NAME: BULLHEAD RESERVOIR
QUADRANT: NW
WEST_LONGITUDE: -106 22 30.00000
EAST_LONGITUDE: -106 18 45.00000
NORTH_LATITUDE: 48 30 0.00000
SOUTH_LATITUDE: 48 26 15.00000
PRODUCTION_DATE: 2001 9 15
RASTER_ORDER: LEFT_RIGHT/TOP_BOTTOM
BAND_ORGANIZATION: SINGLE FILE
BAND_CONTENT: BLACK&WHITE
BAND_CONTENT: UNDEFINED
BAND_CONTENT: UNDEFINED
BITS_PER_PIXEL: 8
SAMPLES_AND_LINES: 5396 7643
HORIZONTAL_DATUM: NAD83
HORIZONTAL_COORDINATE_SYSTEM: UTM
COORDINATE_ZONE: 13
HORIZONTAL_UNITS: meters
HORIZONTAL_RESOLUTION: 1.00000
SECONDARY_HORIZONTAL_DATUM: NAD27
XY_ORIGIN: 397954.00000 5373098.00000
SECONDARY_XY_ORIGIN: 397993.94600 5372875.44700
NATION: US
STATE: MT
NW_QUAD_CORNER_XY: 398427.38200 5372788.47500
NE_QUAD_CORNER_XY: 403044.22000 5372707.36400
SE_QUAD_CORNERY_XY: 402925.06900 5365760.39800
SW_QUAD_CORNER_XY: 398302.55700 5365841.52900
SECONDARY_NW_QUAD_XY: 398424.15300 5372569.53100
SECONDARY_NE_QUAD_XY: 403041.13700 5372488.41800
SECONDARY_SE_QUAD_XY: 402921.98700 5365541.46000
SECONDARY_SW_QUAD_XY: 398299.32700 5365622.59400
RMSE_XY: 3.33000
IMAGE_SOURCE: BLACK AND WHITE FILM
SOURCE_IMAGE_ID: NAPP 9109-236
SOURCE_IMAGE_DATE: 1996 8 11
SOURCE_DEM_DATE: 1998 0 0
AGENCY: WESTERN MAPPING CENTER (WMC)
PRODUCER: WOOLPERT LLP
PRODUCTION_SYSTEM: INTERGRAPH ISPM, ISIR
COMPRESSION: UNDEFINED
STANDARD_VERSION: 1996 12
METADATA_DATE: 2001 9 17
DATA_FILE_SIZE: 41247024
BYTE_COUNT: 5396
