FILENAME: O4810638.SES.1164455.tif
QUADRANGLE_NAME: BULLHEAD RESERVOIR
QUADRANT: SE
WEST_LONGITUDE: -106 18 45.00000
EAST_LONGITUDE: -106 15 0.00000
NORTH_LATITUDE: 48 26 15.00000
SOUTH_LATITUDE: 48 22 30.00000
PRODUCTION_DATE: 2001 11 12
RASTER_ORDER: LEFT_RIGHT/TOP_BOTTOM
BAND_ORGANIZATION: SINGLE FILE
BAND_CONTENT: BLACK&WHITE
BAND_CONTENT: UNDEFINED
BAND_CONTENT: UNDEFINED
BITS_PER_PIXEL: 8
SAMPLES_AND_LINES: 5396 7638
HORIZONTAL_DATUM: NAD83
HORIZONTAL_COORDINATE_SYSTEM: UTM
COORDINATE_ZONE: 13
HORIZONTAL_UNITS: METERS
HORIZONTAL_RESOLUTION: 1.00000
SECONDARY_HORIZONTAL_DATUM: NAD27
XY_ORIGIN: 402457.00000 5366069.00000
SECONDARY_XY_ORIGIN: 402496.97200 5365846.56800
NATION: US
STATE: MT
NW_QUAD_CORNER_XY: 402925.06900 5365760.39800
NE_QUAD_CORNER_XY: 407547.59600 5365683.04100
SE_QUAD_CORNERY_XY: 407434.23200 5358736.12600
SW_QUAD_CORNER_XY: 402806.03600 5358813.50300
SECONDARY_NW_QUAD_XY: 402921.98700 5365541.46000
SECONDARY_NE_QUAD_XY: 407544.66000 5365464.10100
SECONDARY_SE_QUAD_XY: 407431.29700 5358517.19500
SECONDARY_SW_QUAD_XY: 402802.95300 5358594.57500
RMSE_XY: 3.46000
IMAGE_SOURCE: BLACK AND WHITE FILM
SOURCE_IMAGE_ID: NAPP 9122-067
SOURCE_IMAGE_DATE: 1996 9 11
SOURCE_DEM_DATE: 1998 0 0
AGENCY: WESTERN MAPPING CENTER (WMC)
PRODUCER: WOOLPERT LLP
PRODUCTION_SYSTEM: INTERGRAPH ISPM, ISIR
COMPRESSION: UNDEFINED
STANDARD_VERSION: 1996 12
METADATA_DATE: 2001 11 12
DATA_FILE_SIZE: 41220044
BYTE_COUNT: 5396
