FILENAME: O4810638.SWS.1164456.tif
QUADRANGLE_NAME: BULLHEAD RESERVOIR
QUADRANT: SW
WEST_LONGITUDE: -106 22 30.00000
EAST_LONGITUDE: -106 18 45.00000
NORTH_LATITUDE: 48 26 15.00000
SOUTH_LATITUDE: 48 22 30.00000
PRODUCTION_DATE: 2001 9 15
RASTER_ORDER: LEFT_RIGHT/TOP_BOTTOM
BAND_ORGANIZATION: SINGLE FILE
BAND_CONTENT: BLACK&WHITE
BAND_CONTENT: UNDEFINED
BAND_CONTENT: UNDEFINED
BITS_PER_PIXEL: 8
SAMPLES_AND_LINES: 5402 7643
HORIZONTAL_DATUM: NAD83
HORIZONTAL_COORDINATE_SYSTEM: UTM
COORDINATE_ZONE: 13
HORIZONTAL_UNITS: meters
HORIZONTAL_RESOLUTION: 1.00000
SECONDARY_HORIZONTAL_DATUM: NAD27
XY_ORIGIN: 397829.00000 5366151.00000
SECONDARY_XY_ORIGIN: 397869.03700 5365928.53700
NATION: US
STATE: MT
NW_QUAD_CORNER_XY: 398302.55700 5365841.52900
NE_QUAD_CORNER_XY: 402925.06900 5365760.39800
SE_QUAD_CORNERY_XY: 402806.03600 5358813.50300
SW_QUAD_CORNER_XY: 398177.85300 5358894.65600
SECONDARY_NW_QUAD_XY: 398299.32700 5365622.59400
SECONDARY_NE_QUAD_XY: 402921.98700 5365541.46000
SECONDARY_SE_QUAD_XY: 402802.95300 5358594.57500
SECONDARY_SW_QUAD_XY: 398174.62400 5358675.73000
RMSE_XY: 2.67000
IMAGE_SOURCE: BLACK AND WHITE FILM
SOURCE_IMAGE_ID: NAPP 9109-238
SOURCE_IMAGE_DATE: 1996 8 11
SOURCE_DEM_DATE: 1998 0 0
AGENCY: WESTERN MAPPING CENTER (WMC)
PRODUCER: WOOLPERT LLP
PRODUCTION_SYSTEM: INTERGRAPH ISPM, ISIR
COMPRESSION: UNDEFINED
STANDARD_VERSION: 1996 12
METADATA_DATE: 2001 9 17
DATA_FILE_SIZE: 41292888
BYTE_COUNT: 5402
