FILENAME: O4810636.SES.1160140.tif
QUADRANGLE_NAME: CHAPMAN COULEE NE
QUADRANT: SE
WEST_LONGITUDE: -106 33 45.00000
EAST_LONGITUDE: -106 30 0.00000
NORTH_LATITUDE: 48 26 15.00000
SOUTH_LATITUDE: 48 22 30.00000
PRODUCTION_DATE: 2001 8 23
RASTER_ORDER: LEFT_RIGHT/TOP_BOTTOM
BAND_ORGANIZATION: SINGLE FILE
BAND_CONTENT: BLACK&WHITE
BAND_CONTENT: UNDEFINED
BAND_CONTENT: UNDEFINED
BITS_PER_PIXEL: 8
SAMPLES_AND_LINES: 5419 7654
HORIZONTAL_DATUM: NAD83
HORIZONTAL_COORDINATE_SYSTEM: UTM
COORDINATE_ZONE: 13
HORIZONTAL_UNITS: meters
HORIZONTAL_RESOLUTION: 1.00000
SECONDARY_HORIZONTAL_DATUM: NAD27
XY_ORIGIN: 383944.00000 5366417.00000
SECONDARY_XY_ORIGIN: 383984.26200 5366194.59000
NATION: US
STATE: MT
NW_QUAD_CORNER_XY: 384435.10700 5366107.57400
NE_QUAD_CORNER_XY: 389057.57500 5366015.11700
SE_QUAD_CORNERY_XY: 388921.53000 5359068.28800
SW_QUAD_CORNER_XY: 384293.39100 5359160.76900
SECONDARY_NW_QUAD_XY: 384431.43700 5365888.64700
SECONDARY_NE_QUAD_XY: 389054.05200 5365796.18800
SECONDARY_SE_QUAD_XY: 388918.00700 5358849.36800
SECONDARY_SW_QUAD_XY: 384289.72200 5358941.85100
RMSE_XY: 2.87000
IMAGE_SOURCE: BLACK AND WHITE FILM
SOURCE_IMAGE_ID: NAPP 9110-119
SOURCE_IMAGE_DATE: 1996 8 11
SOURCE_DEM_DATE: 1998 0 0
AGENCY: WESTERN MAPPING CENTER (WMC)
PRODUCER: WOOLPERT LLP
PRODUCTION_SYSTEM: INTERGRAPH ISPM, ISIR
COMPRESSION: UNDEFINED
STANDARD_VERSION: 1996 12
METADATA_DATE: 2001 8 23
DATA_FILE_SIZE: 41482445
BYTE_COUNT: 5419
