FILENAME: O4810635.NES.1160130.tif
QUADRANGLE_NAME: CORNWELL RESERVOIR
QUADRANT: NE
WEST_LONGITUDE: -106 41 15.00000
EAST_LONGITUDE: -106 37 30.00000
NORTH_LATITUDE: 48 30 0.00000
SOUTH_LATITUDE: 48 26 15.00000
PRODUCTION_DATE: 2001 8 23
RASTER_ORDER: LEFT_RIGHT/TOP_BOTTOM
BAND_ORGANIZATION: SINGLE FILE
BAND_CONTENT: BLACK&WHITE
BAND_CONTENT: UNDEFINED
BAND_CONTENT: UNDEFINED
BITS_PER_PIXEL: 8
SAMPLES_AND_LINES: 5426 7661
HORIZONTAL_DATUM: NAD83
HORIZONTAL_COORDINATE_SYSTEM: UTM
COORDINATE_ZONE: 13
HORIZONTAL_UNITS: meters
HORIZONTAL_RESOLUTION: 1.00000
SECONDARY_HORIZONTAL_DATUM: NAD27
XY_ORIGIN: 374840.00000 5373559.00000
SECONDARY_XY_ORIGIN: 374880.33000 5373336.72400
NATION: US
STATE: MT
NW_QUAD_CORNER_XY: 375343.42800 5373250.63700
NE_QUAD_CORNER_XY: 379960.18600 5373150.65600
SE_QUAD_CORNERY_XY: 379812.65500 5366203.80600
SW_QUAD_CORNER_XY: 375190.22100 5366303.81300
SECONDARY_NW_QUAD_XY: 375339.46500 5373031.70800
SECONDARY_NE_QUAD_XY: 379956.36900 5372931.72400
SECONDARY_SE_QUAD_XY: 379808.83900 5365984.88200
SECONDARY_SW_QUAD_XY: 375186.25700 5366084.89300
RMSE_XY: 4.13000
IMAGE_SOURCE: BLACK AND WHITE FILM
SOURCE_IMAGE_ID: NAPP 9111-139
SOURCE_IMAGE_DATE: 1996 8 11
SOURCE_DEM_DATE: 1998 0 0
AGENCY: WESTERN MAPPING CENTER (WMC)
PRODUCER: WOOLPERT LLP
PRODUCTION_SYSTEM: INTERGRAPH ISPM, ISIR
COMPRESSION: UNDEFINED
STANDARD_VERSION: 1996 12
METADATA_DATE: 2001 8 23
DATA_FILE_SIZE: 41574012
BYTE_COUNT: 5426
