FILENAME: O4810635.NWS.1160131.tif
QUADRANGLE_NAME: CORNWELL RESERVOIR
QUADRANT: NW
WEST_LONGITUDE: -106 45 0.00000
EAST_LONGITUDE: -106 41 15.00000
NORTH_LATITUDE: 48 30 0.00000
SOUTH_LATITUDE: 48 26 15.00000
PRODUCTION_DATE: 2001 8 23
RASTER_ORDER: LEFT_RIGHT/TOP_BOTTOM
BAND_ORGANIZATION: SINGLE FILE
BAND_CONTENT: BLACK&WHITE
BAND_CONTENT: UNDEFINED
BAND_CONTENT: UNDEFINED
BITS_PER_PIXEL: 8
SAMPLES_AND_LINES: 5431 7665
HORIZONTAL_DATUM: NAD83
HORIZONTAL_COORDINATE_SYSTEM: UTM
COORDINATE_ZONE: 13
HORIZONTAL_UNITS: meters
HORIZONTAL_RESOLUTION: 1.00000
SECONDARY_HORIZONTAL_DATUM: NAD27
XY_ORIGIN: 370218.00000 5373663.00000
SECONDARY_XY_ORIGIN: 370258.42300 5373440.83400
NATION: US
STATE: MT
NW_QUAD_CORNER_XY: 370726.68900 5373354.39300
NE_QUAD_CORNER_XY: 375343.42800 5373250.63700
SE_QUAD_CORNERY_XY: 375190.22100 5366303.81300
SW_QUAD_CORNER_XY: 370567.80400 5366407.59600
SECONDARY_NW_QUAD_XY: 370722.57800 5373135.46700
SECONDARY_NE_QUAD_XY: 375339.46500 5373031.70800
SECONDARY_SE_QUAD_XY: 375186.25700 5366084.89300
SECONDARY_SW_QUAD_XY: 370563.69400 5366188.67900
RMSE_XY: 4.56000
IMAGE_SOURCE: BLACK AND WHITE FILM
SOURCE_IMAGE_ID: NAPP 9111-176
SOURCE_IMAGE_DATE: 1996 8 11
SOURCE_DEM_DATE: 1998 0 0
AGENCY: WESTERN MAPPING CENTER (WMC)
PRODUCER: WOOLPERT LLP
PRODUCTION_SYSTEM: INTERGRAPH ISPM, ISIR
COMPRESSION: UNDEFINED
STANDARD_VERSION: 1996 12
METADATA_DATE: 2001 8 23
DATA_FILE_SIZE: 41634046
BYTE_COUNT: 5431
