FILENAME: O4810634.NES.1137095.tif
QUADRANGLE_NAME: TAMPICO NE
QUADRANT: NE
WEST_LONGITUDE: -106 48 45.00000
EAST_LONGITUDE: -106 45 0.00000
NORTH_LATITUDE: 48 30 0.00000
SOUTH_LATITUDE: 48 26 15.00000
PRODUCTION_DATE: 2001 3 21
RASTER_ORDER: LEFT_RIGHT/TOP_BOTTOM
BAND_ORGANIZATION: SINGLE FILE
BAND_CONTENT: BLACK&WHITE
BAND_CONTENT: UNDEFINED
BAND_CONTENT: UNDEFINED
BITS_PER_PIXEL: 8
SAMPLES_AND_LINES: 5437 7669
HORIZONTAL_DATUM: NAD83
HORIZONTAL_COORDINATE_SYSTEM: UTM
COORDINATE_ZONE: 13
HORIZONTAL_UNITS: meters
HORIZONTAL_RESOLUTION: 1.00000
SECONDARY_HORIZONTAL_DATUM: NAD27
XY_ORIGIN: 365595.00000 5373771.00000
SECONDARY_XY_ORIGIN: 365635.54900 5373549.00600
NATION: US
STATE: MT
NW_QUAD_CORNER_XY: 366109.96700 5373461.92300
NE_QUAD_CORNER_XY: 370726.68900 5373354.39300
SE_QUAD_CORNERY_XY: 370567.80400 5366407.59600
SW_QUAD_CORNER_XY: 365945.40500 5366515.15500
SECONDARY_NW_QUAD_XY: 366105.71000 5373243.00100
SECONDARY_NE_QUAD_XY: 370722.57800 5373135.46700
SECONDARY_SE_QUAD_XY: 370563.69400 5366188.67900
SECONDARY_SW_QUAD_XY: 365941.14800 5366296.24200
RMSE_XY: 2.27000
IMAGE_SOURCE: BLACK AND WHITE FILM
SOURCE_IMAGE_ID: NAPP 9109-075
SOURCE_IMAGE_DATE: 1996 8 11
SOURCE_DEM_DATE: 1998 0 0
AGENCY: WESTERN MAPPING CENTER (WMC)
PRODUCER: WOOLPERT LLP
PRODUCTION_SYSTEM: INTERGRAPH ISPM, ISIR
COMPRESSION: UNDEFINED
STANDARD_VERSION: 1996 12
METADATA_DATE: 2001 3 21
DATA_FILE_SIZE: 41701790
BYTE_COUNT: 5437
