FILENAME: O4810634.SES.1137097.tif
QUADRANGLE_NAME: TAMPICO NE
QUADRANT: SE
WEST_LONGITUDE: -106 48 45.00000
EAST_LONGITUDE: -106 45 0.00000
NORTH_LATITUDE: 48 26 15.00000
SOUTH_LATITUDE: 48 22 30.00000
PRODUCTION_DATE: 2001 3 21
RASTER_ORDER: LEFT_RIGHT/TOP_BOTTOM
BAND_ORGANIZATION: SINGLE FILE
BAND_CONTENT: BLACK&WHITE
BAND_CONTENT: UNDEFINED
BAND_CONTENT: UNDEFINED
BITS_PER_PIXEL: 8
SAMPLES_AND_LINES: 5443 7669
HORIZONTAL_DATUM: NAD83
HORIZONTAL_COORDINATE_SYSTEM: UTM
COORDINATE_ZONE: 13
HORIZONTAL_UNITS: meters
HORIZONTAL_RESOLUTION: 1.00000
SECONDARY_HORIZONTAL_DATUM: NAD27
XY_ORIGIN: 365430.00000 5366824.00000
SECONDARY_XY_ORIGIN: 365470.68400 5366602.06900
NATION: US
STATE: MT
NW_QUAD_CORNER_XY: 365945.40500 5366515.15500
NE_QUAD_CORNER_XY: 370567.80400 5366407.59600
SE_QUAD_CORNERY_XY: 370409.07400 5359460.86800
SW_QUAD_CORNER_XY: 365781.00400 5359568.45500
SECONDARY_NW_QUAD_XY: 365941.14800 5366296.24200
SECONDARY_NE_QUAD_XY: 370563.69400 5366188.67900
SECONDARY_SE_QUAD_XY: 370404.96400 5359241.96100
SECONDARY_SW_QUAD_XY: 365776.74700 5359349.55100
RMSE_XY: 2.33000
IMAGE_SOURCE: BLACK AND WHITE FILM
SOURCE_IMAGE_ID: NAPP 9109-073
SOURCE_IMAGE_DATE: 1996 8 11
SOURCE_DEM_DATE: 1998 0 0
AGENCY: WESTERN MAPPING CENTER (WMC)
PRODUCER: WOOLPERT LLP
PRODUCTION_SYSTEM: INTERGRAPH ISPM, ISIR
COMPRESSION: UNDEFINED
STANDARD_VERSION: 1996 12
METADATA_DATE: 2001 3 21
DATA_FILE_SIZE: 41747810
BYTE_COUNT: 5443
