FILENAME: O4810633.NES.1137091.tif
QUADRANGLE_NAME: ELLSWORTH COULEE
QUADRANT: NE
WEST_LONGITUDE: -106 56 15.00000
EAST_LONGITUDE: -106 52 30.00000
NORTH_LATITUDE: 48 30 0.00000
SOUTH_LATITUDE: 48 26 15.00000
PRODUCTION_DATE: 2001 3 21
RASTER_ORDER: LEFT_RIGHT/TOP_BOTTOM
BAND_ORGANIZATION: SINGLE FILE
BAND_CONTENT: BLACK&WHITE
BAND_CONTENT: UNDEFINED
BAND_CONTENT: UNDEFINED
BITS_PER_PIXEL: 8
SAMPLES_AND_LINES: 5449 7676
HORIZONTAL_DATUM: NAD83
HORIZONTAL_COORDINATE_SYSTEM: UTM
COORDINATE_ZONE: 13
HORIZONTAL_UNITS: meters
HORIZONTAL_RESOLUTION: 1.00000
SECONDARY_HORIZONTAL_DATUM: NAD27
XY_ORIGIN: 356350.00000 5373997.00000
SECONDARY_XY_ORIGIN: 356390.80100 5373775.34700
NATION: US
STATE: MT
NW_QUAD_CORNER_XY: 356876.58400 5373688.31000
NE_QUAD_CORNER_XY: 361493.26600 5373573.22900
SE_QUAD_CORNERY_XY: 361323.02600 5366626.49000
SW_QUAD_CORNER_XY: 356700.66600 5366741.60200
SECONDARY_NW_QUAD_XY: 356872.03300 5373469.39600
SECONDARY_NE_QUAD_XY: 361488.86200 5373354.31100
SECONDARY_SE_QUAD_XY: 361318.62200 5366407.58000
SECONDARY_SW_QUAD_XY: 356696.11500 5366522.69500
RMSE_XY: 1.87000
IMAGE_SOURCE: BLACK AND WHITE FILM
SOURCE_IMAGE_ID: NAPP 9085-077
SOURCE_IMAGE_DATE: 1996 6 13
SOURCE_DEM_DATE: 1998 0 0
AGENCY: WESTERN MAPPING CENTER (WMC)
PRODUCER: WOOLPERT LLP
PRODUCTION_SYSTEM: INTERGRAPH ISPM, ISIR
COMPRESSION: UNDEFINED
STANDARD_VERSION: 1996 12
METADATA_DATE: 2001 3 21
DATA_FILE_SIZE: 41831973
BYTE_COUNT: 5449
