FILENAME: O4810633.SES.1137093.tif
QUADRANGLE_NAME: ELLSWORTH COULEE
QUADRANT: SE
WEST_LONGITUDE: -106 56 15.00000
EAST_LONGITUDE: -106 52 30.00000
NORTH_LATITUDE: 48 26 15.00000
SOUTH_LATITUDE: 48 22 30.00000
PRODUCTION_DATE: 2001 3 21
RASTER_ORDER: LEFT_RIGHT/TOP_BOTTOM
BAND_ORGANIZATION: SINGLE FILE
BAND_CONTENT: BLACK&WHITE
BAND_CONTENT: UNDEFINED
BAND_CONTENT: UNDEFINED
BITS_PER_PIXEL: 8
SAMPLES_AND_LINES: 5455 7676
HORIZONTAL_DATUM: NAD83
HORIZONTAL_COORDINATE_SYSTEM: UTM
COORDINATE_ZONE: 13
HORIZONTAL_UNITS: meters
HORIZONTAL_RESOLUTION: 1.00000
SECONDARY_HORIZONTAL_DATUM: NAD27
XY_ORIGIN: 356174.00000 5367050.00000
SECONDARY_XY_ORIGIN: 356214.95200 5366828.41000
NATION: US
STATE: MT
NW_QUAD_CORNER_XY: 356700.66600 5366741.60200
NE_QUAD_CORNER_XY: 361323.02600 5366626.49000
SE_QUAD_CORNERY_XY: 361152.95200 5359679.81900
SW_QUAD_CORNER_XY: 356524.91900 5359794.96000
SECONDARY_NW_QUAD_XY: 356696.11500 5366522.69500
SECONDARY_NE_QUAD_XY: 361318.62200 5366407.58000
SECONDARY_SE_QUAD_XY: 361148.54800 5359460.91800
SECONDARY_SW_QUAD_XY: 356520.36900 5359576.06300
RMSE_XY: 1.66000
IMAGE_SOURCE: BLACK AND WHITE FILM
SOURCE_IMAGE_ID: NAPP 9085-079
SOURCE_IMAGE_DATE: 1996 6 13
SOURCE_DEM_DATE: 1998 0 0
AGENCY: WESTERN MAPPING CENTER (WMC)
PRODUCER: WOOLPERT LLP
PRODUCTION_SYSTEM: INTERGRAPH ISPM, ISIR
COMPRESSION: UNDEFINED
STANDARD_VERSION: 1996 12
METADATA_DATE: 2001 3 21
DATA_FILE_SIZE: 41878035
BYTE_COUNT: 5455
