FILENAME: O4810633.SWS.1137094.tif
QUADRANGLE_NAME: ELLSWORTH COULEE
QUADRANT: SW
WEST_LONGITUDE: -107 0 0.00000
EAST_LONGITUDE: -106 56 15.00000
NORTH_LATITUDE: 48 26 15.00000
SOUTH_LATITUDE: 48 22 30.00000
PRODUCTION_DATE: 2001 3 21
RASTER_ORDER: LEFT_RIGHT/TOP_BOTTOM
BAND_ORGANIZATION: SINGLE FILE
BAND_CONTENT: BLACK&WHITE
BAND_CONTENT: UNDEFINED
BAND_CONTENT: UNDEFINED
BITS_PER_PIXEL: 8
SAMPLES_AND_LINES: 5461 7680
HORIZONTAL_DATUM: NAD83
HORIZONTAL_COORDINATE_SYSTEM: UTM
COORDINATE_ZONE: 13
HORIZONTAL_UNITS: meters
HORIZONTAL_RESOLUTION: 1.00000
SECONDARY_HORIZONTAL_DATUM: NAD27
XY_ORIGIN: 351545.00000 5367169.00000
SECONDARY_XY_ORIGIN: 351586.09000 5366947.58300
NATION: US
STATE: MT
NW_QUAD_CORNER_XY: 352078.32600 5366860.49000
NE_QUAD_CORNER_XY: 356700.66600 5366741.60200
SE_QUAD_CORNERY_XY: 356524.91900 5359794.96000
SW_QUAD_CORNER_XY: 351896.90700 5359913.87900
SECONDARY_NW_QUAD_XY: 352073.62900 5366641.58700
SECONDARY_NE_QUAD_XY: 356696.11500 5366522.69500
SECONDARY_SE_QUAD_XY: 356520.36900 5359576.06300
SECONDARY_SW_QUAD_XY: 351892.21000 5359694.98600
RMSE_XY: 1.92000
IMAGE_SOURCE: BLACK AND WHITE FILM
SOURCE_IMAGE_ID: NAPP 9101-043
SOURCE_IMAGE_DATE: 1996 7 15
SOURCE_IMAGE_ID: NAPP 9101-085
SOURCE_IMAGE_DATE: 1996 7 15
SOURCE_DEM_DATE: 1998 0 0
AGENCY: WESTERN MAPPING CENTER (WMC)
PRODUCER: WOOLPERT LLP
PRODUCTION_SYSTEM: INTERGRAPH ISPM, ISIR
COMPRESSION: UNDEFINED
STANDARD_VERSION: 1996 12
METADATA_DATE: 2001 4 3
DATA_FILE_SIZE: 41945941
BYTE_COUNT: 5461
