FILENAME: O4810632.NWS.1164402.tif
QUADRANGLE_NAME: BLINK SPRINGS
QUADRANT: NW
WEST_LONGITUDE: -106 7 30.00000
EAST_LONGITUDE: -106 3 45.00000
NORTH_LATITUDE: 48 37 30.00000
SOUTH_LATITUDE: 48 33 45.00000
PRODUCTION_DATE: 2001 9 15
RASTER_ORDER: LEFT_RIGHT/TOP_BOTTOM
BAND_ORGANIZATION: SINGLE FILE
BAND_CONTENT: BLACK&WHITE
BAND_CONTENT: UNDEFINED
BAND_CONTENT: UNDEFINED
BITS_PER_PIXEL: 8
SAMPLES_AND_LINES: 5361 7628
HORIZONTAL_DATUM: NAD83
HORIZONTAL_COORDINATE_SYSTEM: UTM
COORDINATE_ZONE: 13
HORIZONTAL_UNITS: meters
HORIZONTAL_RESOLUTION: 1.00000
SECONDARY_HORIZONTAL_DATUM: NAD27
XY_ORIGIN: 416649.00000 5386690.00000
SECONDARY_XY_ORIGIN: 416688.68800 5386467.55400
NATION: US
STATE: MT
NW_QUAD_CORNER_XY: 417099.36100 5386380.94200
NE_QUAD_CORNER_XY: 421704.88400 5386314.96100
SE_QUAD_CORNERY_XY: 421608.24600 5379367.77200
SW_QUAD_CORNER_XY: 416997.03700 5379433.77200
SECONDARY_NW_QUAD_XY: 417096.71900 5386161.97400
SECONDARY_NE_QUAD_XY: 421702.38900 5386095.99100
SECONDARY_SE_QUAD_XY: 421605.75000 5379148.81000
SECONDARY_SW_QUAD_XY: 416994.39500 5379214.81100
RMSE_XY: 4.39000
IMAGE_SOURCE: BLACK AND WHITE FILM
SOURCE_IMAGE_ID: NAPP 9095-167
SOURCE_IMAGE_DATE: 1996 7 9
SOURCE_DEM_DATE: 1998 0 0
AGENCY: WESTERN MAPPING CENTER (WMC)
PRODUCER: WOOLPERT LLP
PRODUCTION_SYSTEM: INTERGRAPH ISPM, ISIR
COMPRESSION: UNDEFINED
STANDARD_VERSION: 1996 12
METADATA_DATE: 2001 9 17
DATA_FILE_SIZE: 40899069
BYTE_COUNT: 5361
