FILENAME: O4810631.NES.1164389.tif
QUADRANGLE_NAME: LARSLAN
QUADRANT: NE
WEST_LONGITUDE: -106 11 15.00000
EAST_LONGITUDE: -106 7 30.00000
NORTH_LATITUDE: 48 37 30.00000
SOUTH_LATITUDE: 48 33 45.00000
PRODUCTION_DATE: 2001 9 15
RASTER_ORDER: LEFT_RIGHT/TOP_BOTTOM
BAND_ORGANIZATION: SINGLE FILE
BAND_CONTENT: BLACK&WHITE
BAND_CONTENT: UNDEFINED
BAND_CONTENT: UNDEFINED
BITS_PER_PIXEL: 8
SAMPLES_AND_LINES: 5367 7632
HORIZONTAL_DATUM: NAD83
HORIZONTAL_COORDINATE_SYSTEM: UTM
COORDINATE_ZONE: 13
HORIZONTAL_UNITS: meters
HORIZONTAL_RESOLUTION: 1.00000
SECONDARY_HORIZONTAL_DATUM: NAD27
XY_ORIGIN: 412038.00000 5386760.00000
SECONDARY_XY_ORIGIN: 412077.69400 5386537.51200
NATION: US
STATE: MT
NW_QUAD_CORNER_XY: 412493.85000 5386450.69400
NE_QUAD_CORNER_XY: 417099.36100 5386380.94200
SE_QUAD_CORNERY_XY: 416997.03700 5379433.77200
SW_QUAD_CORNER_XY: 412385.84000 5379503.54300
SECONDARY_NW_QUAD_XY: 412491.06100 5386231.72900
SECONDARY_NE_QUAD_XY: 417096.71900 5386161.97400
SECONDARY_SE_QUAD_XY: 416994.39500 5379214.81100
SECONDARY_SW_QUAD_XY: 412383.05100 5379284.58400
RMSE_XY: 2.65000
IMAGE_SOURCE: BLACK AND WHITE FILM
SOURCE_IMAGE_ID: NAPP 9095-198
SOURCE_IMAGE_DATE: 1996 7 9
SOURCE_DEM_DATE: 1998 0 0
AGENCY: WESTERN MAPPING CENTER (WMC)
PRODUCER: WOOLPERT LLP
PRODUCTION_SYSTEM: INTERGRAPH ISPM, ISIR
COMPRESSION: UNDEFINED
STANDARD_VERSION: 1996 12
METADATA_DATE: 2001 9 17
DATA_FILE_SIZE: 40966311
BYTE_COUNT: 5367
