FILENAME: O4810630.SES.1164451.tif
QUADRANGLE_NAME: BAYLOR SE
QUADRANT: SE
WEST_LONGITUDE: -106 18 45.00000
EAST_LONGITUDE: -106 15 0.00000
NORTH_LATITUDE: 48 33 45.00000
SOUTH_LATITUDE: 48 30 0.00000
PRODUCTION_DATE: 2001 9 15
RASTER_ORDER: LEFT_RIGHT/TOP_BOTTOM
BAND_ORGANIZATION: SINGLE FILE
BAND_CONTENT: BLACK&WHITE
BAND_CONTENT: UNDEFINED
BAND_CONTENT: UNDEFINED
BITS_PER_PIXEL: 8
SAMPLES_AND_LINES: 5384 7638
HORIZONTAL_DATUM: NAD83
HORIZONTAL_COORDINATE_SYSTEM: UTM
COORDINATE_ZONE: 13
HORIZONTAL_UNITS: meters
HORIZONTAL_RESOLUTION: 1.00000
SECONDARY_HORIZONTAL_DATUM: NAD27
XY_ORIGIN: 402696.00000 5379963.00000
SECONDARY_XY_ORIGIN: 402735.81800 5379740.46300
NATION: US
STATE: MT
NW_QUAD_CORNER_XY: 403163.48600 5379654.40300
NE_QUAD_CORNER_XY: 407774.65600 5379577.08600
SE_QUAD_CORNERY_XY: 407661.07100 5372630.02700
SW_QUAD_CORNER_XY: 403044.22000 5372707.36400
SECONDARY_NW_QUAD_XY: 403160.40300 5379435.44900
SECONDARY_NE_QUAD_XY: 407771.72100 5379358.13000
SECONDARY_SE_QUAD_XY: 407658.13500 5372411.07900
SECONDARY_SW_QUAD_XY: 403041.13700 5372488.41800
RMSE_XY: 3.13000
IMAGE_SOURCE: BLACK AND WHITE FILM
SOURCE_IMAGE_ID: NAPP 9122-071
SOURCE_IMAGE_DATE: 1996 9 11
SOURCE_DEM_DATE: 1998 0 0
AGENCY: WESTERN MAPPING CENTER (WMC)
PRODUCER: WOOLPERT LLP
PRODUCTION_SYSTEM: INTERGRAPH ISPM, ISIR
COMPRESSION: UNDEFINED
STANDARD_VERSION: 1996 12
METADATA_DATE: 2001 9 17
DATA_FILE_SIZE: 41128376
BYTE_COUNT: 5384
