FILENAME: O4810629.NWS.1164378.tif
QUADRANGLE_NAME: CAMERON POINT
QUADRANT: NW
WEST_LONGITUDE: -106 30 0.00000
EAST_LONGITUDE: -106 26 15.00000
NORTH_LATITUDE: 48 37 30.00000
SOUTH_LATITUDE: 48 33 45.00000
PRODUCTION_DATE: 2001 9 15
RASTER_ORDER: LEFT_RIGHT/TOP_BOTTOM
BAND_ORGANIZATION: SINGLE FILE
BAND_CONTENT: BLACK&WHITE
BAND_CONTENT: UNDEFINED
BAND_CONTENT: UNDEFINED
BITS_PER_PIXEL: 8
SAMPLES_AND_LINES: 5396 7650
HORIZONTAL_DATUM: NAD83
HORIZONTAL_COORDINATE_SYSTEM: UTM
COORDINATE_ZONE: 13
HORIZONTAL_UNITS: meters
HORIZONTAL_RESOLUTION: 1.00000
SECONDARY_HORIZONTAL_DATUM: NAD27
XY_ORIGIN: 388981.00000 5387165.00000
SECONDARY_XY_ORIGIN: 389020.88100 5386942.40100
NATION: US
STATE: MT
NW_QUAD_CORNER_XY: 389466.50600 5386856.02800
NE_QUAD_CORNER_XY: 394071.94500 5386767.41800
SE_QUAD_CORNERY_XY: 393941.18800 5379820.35300
SW_QUAD_CORNER_XY: 389330.06300 5379908.98700
SECONDARY_NW_QUAD_XY: 389462.98300 5386637.07600
SECONDARY_NE_QUAD_XY: 394068.56800 5386548.46300
SECONDARY_SE_QUAD_XY: 393937.81200 5379601.40400
SECONDARY_SW_QUAD_XY: 389326.53900 5379690.04200
RMSE_XY: 2.78000
IMAGE_SOURCE: BLACK AND WHITE FILM
SOURCE_IMAGE_ID: NAPP 9109-108
SOURCE_IMAGE_DATE: 1996 8 11
SOURCE_DEM_DATE: 1998 0 0
AGENCY: WESTERN MAPPING CENTER (WMC)
PRODUCER: WOOLPERT LLP
PRODUCTION_SYSTEM: INTERGRAPH ISPM, ISIR
COMPRESSION: UNDEFINED
STANDARD_VERSION: 1996 12
METADATA_DATE: 2001 9 15
DATA_FILE_SIZE: 41284796
BYTE_COUNT: 5396
