FILENAME: O4810629.SES.1164379.tif
QUADRANGLE_NAME: CAMERON POINT
QUADRANT: SE
WEST_LONGITUDE: -106 26 15.00000
EAST_LONGITUDE: -106 22 30.00000
NORTH_LATITUDE: 48 33 45.00000
SOUTH_LATITUDE: 48 30 0.00000
PRODUCTION_DATE: 2001 9 15
RASTER_ORDER: LEFT_RIGHT/TOP_BOTTOM
BAND_ORGANIZATION: SINGLE FILE
BAND_CONTENT: BLACK&WHITE
BAND_CONTENT: UNDEFINED
BAND_CONTENT: UNDEFINED
BITS_PER_PIXEL: 8
SAMPLES_AND_LINES: 5396 7646
HORIZONTAL_DATUM: NAD83
HORIZONTAL_COORDINATE_SYSTEM: UTM
COORDINATE_ZONE: 13
HORIZONTAL_UNITS: meters
HORIZONTAL_RESOLUTION: 1.00000
SECONDARY_HORIZONTAL_DATUM: NAD27
XY_ORIGIN: 393462.00000 5380129.00000
SECONDARY_XY_ORIGIN: 393501.91900 5379906.41700
NATION: US
STATE: MT
NW_QUAD_CORNER_XY: 393941.18800 5379820.35300
NE_QUAD_CORNER_XY: 398552.33000 5379735.49100
SE_QUAD_CORNERY_XY: 398427.38200 5372788.47500
SW_QUAD_CORNER_XY: 393810.56000 5372873.35900
SECONDARY_NW_QUAD_XY: 393937.81200 5379601.40400
SECONDARY_NE_QUAD_XY: 398549.10000 5379516.54000
SECONDARY_SE_QUAD_XY: 398424.15300 5372569.53100
SECONDARY_SW_QUAD_XY: 393807.18300 5372654.41800
RMSE_XY: 2.35000
IMAGE_SOURCE: BLACK AND WHITE FILM
SOURCE_IMAGE_ID: NAPP 9109-201
SOURCE_IMAGE_DATE: 1996 8 11
SOURCE_DEM_DATE: 1998 0 0
AGENCY: WESTERN MAPPING CENTER (WMC)
PRODUCER: WOOLPERT LLP
PRODUCTION_SYSTEM: INTERGRAPH ISPM, ISIR
COMPRESSION: UNDEFINED
STANDARD_VERSION: 1996 12
METADATA_DATE: 2001 9 15
DATA_FILE_SIZE: 41263212
BYTE_COUNT: 5396
