FILENAME: O4810628.NES.1160134.tif
QUADRANGLE_NAME: DRY FORK CREEK
QUADRANT: NE
WEST_LONGITUDE: -106 33 45.00000
EAST_LONGITUDE: -106 30 0.00000
NORTH_LATITUDE: 48 37 30.00000
SOUTH_LATITUDE: 48 33 45.00000
PRODUCTION_DATE: 2001 8 23
RASTER_ORDER: LEFT_RIGHT/TOP_BOTTOM
BAND_ORGANIZATION: SINGLE FILE
BAND_CONTENT: BLACK&WHITE
BAND_CONTENT: UNDEFINED
BAND_CONTENT: UNDEFINED
BITS_PER_PIXEL: 8
SAMPLES_AND_LINES: 5402 7654
HORIZONTAL_DATUM: NAD83
HORIZONTAL_COORDINATE_SYSTEM: UTM
COORDINATE_ZONE: 13
HORIZONTAL_UNITS: meters
HORIZONTAL_RESOLUTION: 1.00000
SECONDARY_HORIZONTAL_DATUM: NAD27
XY_ORIGIN: 384370.00000 5387257.00000
SECONDARY_XY_ORIGIN: 384409.96100 5387034.48100
NATION: US
STATE: MT
NW_QUAD_CORNER_XY: 384861.08400 5386948.41100
NE_QUAD_CORNER_XY: 389466.50600 5386856.02800
SE_QUAD_CORNERY_XY: 389330.06300 5379908.98700
SW_QUAD_CORNER_XY: 384718.95300 5380001.39500
SECONDARY_NW_QUAD_XY: 384857.41300 5386729.46100
SECONDARY_NE_QUAD_XY: 389462.98300 5386637.07600
SECONDARY_SE_QUAD_XY: 389326.53900 5379690.04200
SECONDARY_SW_QUAD_XY: 384715.28300 5379782.45200
RMSE_XY: 4.45000
IMAGE_SOURCE: BLACK AND WHITE FILM
SOURCE_IMAGE_ID: NAPP 9110-125
SOURCE_IMAGE_DATE: 1996 8 11
SOURCE_DEM_DATE: 1998 0 0
AGENCY: WESTERN MAPPING CENTER (WMC)
PRODUCER: WOOLPERT LLP
PRODUCTION_SYSTEM: INTERGRAPH ISPM, ISIR
COMPRESSION: UNDEFINED
STANDARD_VERSION: 1996 12
METADATA_DATE: 2001 8 23
DATA_FILE_SIZE: 41352310
BYTE_COUNT: 5402
