FILENAME: O4810628.NWS.1160135.tif
QUADRANGLE_NAME: DRY FORK CREEK
QUADRANT: NW
WEST_LONGITUDE: -106 37 30.00000
EAST_LONGITUDE: -106 33 45.00000
NORTH_LATITUDE: 48 37 30.00000
SOUTH_LATITUDE: 48 33 45.00000
PRODUCTION_DATE: 2001 8 23
RASTER_ORDER: LEFT_RIGHT/TOP_BOTTOM
BAND_ORGANIZATION: SINGLE FILE
BAND_CONTENT: BLACK&WHITE
BAND_CONTENT: UNDEFINED
BAND_CONTENT: UNDEFINED
BITS_PER_PIXEL: 8
SAMPLES_AND_LINES: 5409 7658
HORIZONTAL_DATUM: NAD83
HORIZONTAL_COORDINATE_SYSTEM: UTM
COORDINATE_ZONE: 13
HORIZONTAL_UNITS: meters
HORIZONTAL_RESOLUTION: 1.00000
SECONDARY_HORIZONTAL_DATUM: NAD27
XY_ORIGIN: 379758.00000 5387354.00000
SECONDARY_XY_ORIGIN: 379798.04100 5387131.56100
NATION: US
STATE: MT
NW_QUAD_CORNER_XY: 380255.67900 5387044.56500
NE_QUAD_CORNER_XY: 384861.08400 5386948.41100
SE_QUAD_CORNERY_XY: 384718.95300 5380001.39500
SW_QUAD_CORNER_XY: 380107.86000 5380097.57600
SECONDARY_NW_QUAD_XY: 380251.86200 5386825.61900
SECONDARY_NE_QUAD_XY: 384857.41300 5386729.46100
SECONDARY_SE_QUAD_XY: 384715.28300 5379782.45200
SECONDARY_SW_QUAD_XY: 380104.04300 5379878.63600
RMSE_XY: 3.06000
IMAGE_SOURCE: BLACK AND WHITE FILM
SOURCE_IMAGE_ID: NAPP 9110-154
SOURCE_IMAGE_DATE: 1996 8 11
SOURCE_DEM_DATE: 1998 0 0
AGENCY: WESTERN MAPPING CENTER (WMC)
PRODUCER: WOOLPERT LLP
PRODUCTION_SYSTEM: INTERGRAPH ISPM, ISIR
COMPRESSION: UNDEFINED
STANDARD_VERSION: 1996 12
METADATA_DATE: 2001 8 23
DATA_FILE_SIZE: 41427531
BYTE_COUNT: 5409
