FILENAME: O4810627.SWS.1160129.tif
QUADRANGLE_NAME: FORSMAN RESERVOIR
QUADRANT: SW
WEST_LONGITUDE: -106 45 0.00000
EAST_LONGITUDE: -106 41 15.00000
NORTH_LATITUDE: 48 33 45.00000
SOUTH_LATITUDE: 48 30 0.00000
PRODUCTION_DATE: 2001 8 23
RASTER_ORDER: LEFT_RIGHT/TOP_BOTTOM
BAND_ORGANIZATION: SINGLE FILE
BAND_CONTENT: BLACK&WHITE
BAND_CONTENT: UNDEFINED
BAND_CONTENT: UNDEFINED
BITS_PER_PIXEL: 8
SAMPLES_AND_LINES: 5425 7665
HORIZONTAL_DATUM: NAD83
HORIZONTAL_COORDINATE_SYSTEM: UTM
COORDINATE_ZONE: 13
HORIZONTAL_UNITS: meters
HORIZONTAL_RESOLUTION: 1.00000
SECONDARY_HORIZONTAL_DATUM: NAD27
XY_ORIGIN: 370377.00000 5380610.00000
SECONDARY_XY_ORIGIN: 370417.31300 5380387.78000
NATION: US
STATE: MT
NW_QUAD_CORNER_XY: 370885.72800 5380301.25800
NE_QUAD_CORNER_XY: 375496.78500 5380197.53000
SE_QUAD_CORNERY_XY: 375343.42800 5373250.63700
SW_QUAD_CORNER_XY: 370726.68900 5373354.39300
SECONDARY_NW_QUAD_XY: 370881.61800 5380082.32500
SECONDARY_NE_QUAD_XY: 375492.82100 5379978.59400
SECONDARY_SE_QUAD_XY: 375339.46500 5373031.70800
SECONDARY_SW_QUAD_XY: 370722.57800 5373135.46700
RMSE_XY: 2.31000
IMAGE_SOURCE: BLACK AND WHITE FILM
SOURCE_IMAGE_ID: NAPP 9111-174
SOURCE_IMAGE_DATE: 1996 8 11
SOURCE_DEM_DATE: 1994 0 0
AGENCY: WESTERN MAPPING CENTER (WMC)
PRODUCER: WOOLPERT LLP
PRODUCTION_SYSTEM: INTERGRAPH ISPM, ISIR
COMPRESSION: UNDEFINED
STANDARD_VERSION: 1996 12
METADATA_DATE: 2001 8 23
DATA_FILE_SIZE: 41588050
BYTE_COUNT: 5425
