FILENAME: O4810626.SES.1160124.tif
QUADRANGLE_NAME: LAUNDRY HILL
QUADRANT: SE
WEST_LONGITUDE: -106 48 45.00000
EAST_LONGITUDE: -106 45 0.00000
NORTH_LATITUDE: 48 33 45.00000
SOUTH_LATITUDE: 48 30 0.00000
PRODUCTION_DATE: 2001 8 23
RASTER_ORDER: LEFT_RIGHT/TOP_BOTTOM
BAND_ORGANIZATION: SINGLE FILE
BAND_CONTENT: BLACK&WHITE
BAND_CONTENT: UNDEFINED
BAND_CONTENT: UNDEFINED
BITS_PER_PIXEL: 8
SAMPLES_AND_LINES: 5431 7668
HORIZONTAL_DATUM: NAD83
HORIZONTAL_COORDINATE_SYSTEM: UTM
COORDINATE_ZONE: 13
HORIZONTAL_UNITS: meters
HORIZONTAL_RESOLUTION: 1.00000
SECONDARY_HORIZONTAL_DATUM: NAD27
XY_ORIGIN: 365760.00000 5380717.00000
SECONDARY_XY_ORIGIN: 365800.42900 5380494.93400
NATION: US
STATE: MT
NW_QUAD_CORNER_XY: 366274.69000 5380408.76000
NE_QUAD_CORNER_XY: 370885.72800 5380301.25800
SE_QUAD_CORNERY_XY: 370726.68900 5373354.39300
SW_QUAD_CORNER_XY: 366109.96700 5373461.92300
SECONDARY_NW_QUAD_XY: 366270.43300 5380189.83000
SECONDARY_NE_QUAD_XY: 370881.61800 5380082.32500
SECONDARY_SE_QUAD_XY: 370722.57800 5373135.46700
SECONDARY_SW_QUAD_XY: 366105.71000 5373243.00100
RMSE_XY: 3.28000
IMAGE_SOURCE: BLACK AND WHITE FILM
SOURCE_IMAGE_ID: NAPP 9109-077
SOURCE_IMAGE_DATE: 1996 8 11
SOURCE_DEM_DATE: 1994 0 0
AGENCY: WESTERN MAPPING CENTER (WMC)
PRODUCER: WOOLPERT LLP
PRODUCTION_SYSTEM: INTERGRAPH ISPM, ISIR
COMPRESSION: UNDEFINED
STANDARD_VERSION: 1996 12
METADATA_DATE: 2001 8 23
DATA_FILE_SIZE: 41650339
BYTE_COUNT: 5431
