FILENAME: O4810625.SWS.1160081.tif
QUADRANGLE_NAME: MILLER SPRINGS
QUADRANT: SW
WEST_LONGITUDE: -107 0 0.00000
EAST_LONGITUDE: -106 56 15.00000
NORTH_LATITUDE: 48 33 45.00000
SOUTH_LATITUDE: 48 30 0.00000
PRODUCTION_DATE: 2001 8 23
RASTER_ORDER: LEFT_RIGHT/TOP_BOTTOM
BAND_ORGANIZATION: SINGLE FILE
BAND_CONTENT: BLACK&WHITE
BAND_CONTENT: UNDEFINED
BAND_CONTENT: UNDEFINED
BITS_PER_PIXEL: 8
SAMPLES_AND_LINES: 5449 7679
HORIZONTAL_DATUM: NAD83
HORIZONTAL_COORDINATE_SYSTEM: UTM
COORDINATE_ZONE: 13
HORIZONTAL_UNITS: meters
HORIZONTAL_RESOLUTION: 1.00000
SECONDARY_HORIZONTAL_DATUM: NAD27
XY_ORIGIN: 351909.00000 5381062.00000
SECONDARY_XY_ORIGIN: 351949.78100 5380840.39600
NATION: US
STATE: MT
NW_QUAD_CORNER_XY: 352441.69700 5380753.91100
NE_QUAD_CORNER_XY: 357052.67400 5380635.08600
SE_QUAD_CORNERY_XY: 356876.58400 5373688.31000
SW_QUAD_CORNER_XY: 352259.92300 5373807.16700
SECONDARY_NW_QUAD_XY: 352436.99900 5380534.99300
SECONDARY_NE_QUAD_XY: 357048.12300 5380416.16400
SECONDARY_SE_QUAD_XY: 356872.03300 5373469.39600
SECONDARY_SW_QUAD_XY: 352255.22500 5373588.25600
RMSE_XY: 2.98000
IMAGE_SOURCE: BLACK AND WHITE FILM
SOURCE_IMAGE_ID: NAPP 9101-047
SOURCE_IMAGE_DATE: 1996 7 15
SOURCE_DEM_DATE: 1994 0 0
AGENCY: WESTERN MAPPING CENTER (WMC)
PRODUCER: WOOLPERT LLP
PRODUCTION_SYSTEM: INTERGRAPH ISPM, ISIR
COMPRESSION: UNDEFINED
STANDARD_VERSION: 1996 12
METADATA_DATE: 2001 8 23
DATA_FILE_SIZE: 41848320
BYTE_COUNT: 5449
