FILENAME: O4810624.NWS.1164446.tif
QUADRANGLE_NAME: JOHNNYS HILL
QUADRANT: NW
WEST_LONGITUDE: -106 7 30.00000
EAST_LONGITUDE: -106 3 45.00000
NORTH_LATITUDE: 48 45 0.00000
SOUTH_LATITUDE: 48 41 15.00000
PRODUCTION_DATE: 2001 9 15
RASTER_ORDER: LEFT_RIGHT/TOP_BOTTOM
BAND_ORGANIZATION: SINGLE FILE
BAND_CONTENT: BLACK&WHITE
BAND_CONTENT: UNDEFINED
BAND_CONTENT: UNDEFINED
BITS_PER_PIXEL: 8
SAMPLES_AND_LINES: 5350 7628
HORIZONTAL_DATUM: NAD83
HORIZONTAL_COORDINATE_SYSTEM: UTM
COORDINATE_ZONE: 13
HORIZONTAL_UNITS: meters
HORIZONTAL_RESOLUTION: 1.00000
SECONDARY_HORIZONTAL_DATUM: NAD27
XY_ORIGIN: 416854.00000 5400585.00000
SECONDARY_XY_ORIGIN: 416893.58800 5400362.48400
NATION: US
STATE: MT
NW_QUAD_CORNER_XY: 417304.30700 5400275.50100
NE_QUAD_CORNER_XY: 421898.44200 5400209.55600
SE_QUAD_CORNERY_XY: 421801.61600 5393262.22200
SW_QUAD_CORNER_XY: 417201.78500 5393328.18500
SECONDARY_NW_QUAD_XY: 417301.66500 5400056.52200
SECONDARY_NE_QUAD_XY: 421895.94700 5399990.57600
SECONDARY_SE_QUAD_XY: 421799.12100 5393043.24600
SECONDARY_SW_QUAD_XY: 417199.14200 5393109.21100
RMSE_XY: 2.63000
IMAGE_SOURCE: BLACK AND WHITE FILM
SOURCE_IMAGE_ID: NAPP 9095-163
SOURCE_IMAGE_DATE: 1996 7 9
SOURCE_DEM_DATE: 1998 0 0
AGENCY: WESTERN MAPPING CENTER (WMC)
PRODUCER: WOOLPERT LLP
PRODUCTION_SYSTEM: INTERGRAPH ISPM, ISIR
COMPRESSION: UNDEFINED
STANDARD_VERSION: 1996 12
METADATA_DATE: 2001 9 15
DATA_FILE_SIZE: 40815150
BYTE_COUNT: 5350
