FILENAME: O4810624.SES.1164447.tif
QUADRANGLE_NAME: JOHNNYS HILL
QUADRANT: SE
WEST_LONGITUDE: -106 3 45.00000
EAST_LONGITUDE: -106 0 0.00000
NORTH_LATITUDE: 48 41 15.00000
SOUTH_LATITUDE: 48 37 30.00000
PRODUCTION_DATE: 2001 9 15
RASTER_ORDER: LEFT_RIGHT/TOP_BOTTOM
BAND_ORGANIZATION: SINGLE FILE
BAND_CONTENT: BLACK&WHITE
BAND_CONTENT: UNDEFINED
BAND_CONTENT: UNDEFINED
BITS_PER_PIXEL: 8
SAMPLES_AND_LINES: 5350 7624
HORIZONTAL_DATUM: NAD83
HORIZONTAL_COORDINATE_SYSTEM: UTM
COORDINATE_ZONE: 13
HORIZONTAL_UNITS: meters
HORIZONTAL_RESOLUTION: 1.00000
SECONDARY_HORIZONTAL_DATUM: NAD27
XY_ORIGIN: 421357.00000 5393571.00000
SECONDARY_XY_ORIGIN: 421396.63800 5393348.55300
NATION: US
STATE: MT
NW_QUAD_CORNER_XY: 421801.61600 5393262.22200
NE_QUAD_CORNER_XY: 426401.46000 5393200.02900
SE_QUAD_CORNERY_XY: 426310.41900 5386252.75000
SW_QUAD_CORNER_XY: 421704.88400 5386314.96100
SECONDARY_NW_QUAD_XY: 421799.12100 5393043.24600
SECONDARY_NE_QUAD_XY: 426399.11100 5392981.05100
SECONDARY_SE_QUAD_XY: 426308.07000 5386033.77900
SECONDARY_SW_QUAD_XY: 421702.38900 5386095.99100
RMSE_XY: 3.26000
IMAGE_SOURCE: BLACK AND WHITE FILM
SOURCE_IMAGE_ID: NAPP 9122-136
SOURCE_IMAGE_DATE: 1996 9 11
SOURCE_DEM_DATE: 1998 0 0
AGENCY: WESTERN MAPPING CENTER (WMC)
PRODUCER: WOOLPERT LLP
PRODUCTION_SYSTEM: INTERGRAPH ISPM, ISIR
COMPRESSION: UNDEFINED
STANDARD_VERSION: 1996 12
METADATA_DATE: 2001 9 15
DATA_FILE_SIZE: 40793750
BYTE_COUNT: 5350
