FILENAME: O4810624.SWS.1164448.tif
QUADRANGLE_NAME: JOHNNYS HILL
QUADRANT: SW
WEST_LONGITUDE: -106 7 30.00000
EAST_LONGITUDE: -106 3 45.00000
NORTH_LATITUDE: 48 41 15.00000
SOUTH_LATITUDE: 48 37 30.00000
PRODUCTION_DATE: 2001 9 15
RASTER_ORDER: LEFT_RIGHT/TOP_BOTTOM
BAND_ORGANIZATION: SINGLE FILE
BAND_CONTENT: BLACK&WHITE
BAND_CONTENT: UNDEFINED
BAND_CONTENT: UNDEFINED
BITS_PER_PIXEL: 8
SAMPLES_AND_LINES: 5355 7628
HORIZONTAL_DATUM: NAD83
HORIZONTAL_COORDINATE_SYSTEM: UTM
COORDINATE_ZONE: 13
HORIZONTAL_UNITS: meters
HORIZONTAL_RESOLUTION: 1.00000
SECONDARY_HORIZONTAL_DATUM: NAD27
XY_ORIGIN: 416752.00000 5393637.00000
SECONDARY_XY_ORIGIN: 416791.63600 5393414.51800
NATION: US
STATE: MT
NW_QUAD_CORNER_XY: 417201.78500 5393328.18500
NE_QUAD_CORNER_XY: 421801.61600 5393262.22200
SE_QUAD_CORNERY_XY: 421704.88400 5386314.96100
SW_QUAD_CORNER_XY: 417099.36100 5386380.94200
SECONDARY_NW_QUAD_XY: 417199.14200 5393109.21100
SECONDARY_NE_QUAD_XY: 421799.12100 5393043.24600
SECONDARY_SE_QUAD_XY: 421702.38900 5386095.99100
SECONDARY_SW_QUAD_XY: 417096.71900 5386161.97400
RMSE_XY: 2.12000
IMAGE_SOURCE: BLACK AND WHITE FILM
SOURCE_IMAGE_ID: NAPP 9095-165
SOURCE_IMAGE_DATE: 1996 7 9
SOURCE_DEM_DATE: 1998 0 0
AGENCY: WESTERN MAPPING CENTER (WMC)
PRODUCER: WOOLPERT LLP
PRODUCTION_SYSTEM: INTERGRAPH ISPM, ISIR
COMPRESSION: UNDEFINED
STANDARD_VERSION: 1996 12
METADATA_DATE: 2001 9 15
DATA_FILE_SIZE: 40853295
BYTE_COUNT: 5355
