FILENAME: O4810623.NES.1164433.tif
QUADRANGLE_NAME: LARSLAN NW
QUADRANT: NE
WEST_LONGITUDE: -106 11 15.00000
EAST_LONGITUDE: -106 7 30.00000
NORTH_LATITUDE: 48 45 0.00000
SOUTH_LATITUDE: 48 41 15.00000
PRODUCTION_DATE: 2001 9 15
RASTER_ORDER: LEFT_RIGHT/TOP_BOTTOM
BAND_ORGANIZATION: SINGLE FILE
BAND_CONTENT: BLACK&WHITE
BAND_CONTENT: UNDEFINED
BAND_CONTENT: UNDEFINED
BITS_PER_PIXEL: 8
SAMPLES_AND_LINES: 5356 7631
HORIZONTAL_DATUM: NAD83
HORIZONTAL_COORDINATE_SYSTEM: UTM
COORDINATE_ZONE: 13
HORIZONTAL_UNITS: meters
HORIZONTAL_RESOLUTION: 1.00000
SECONDARY_HORIZONTAL_DATUM: NAD27
XY_ORIGIN: 412254.00000 5400654.00000
SECONDARY_XY_ORIGIN: 412293.58000 5400431.45700
NATION: US
STATE: MT
NW_QUAD_CORNER_XY: 412710.18500 5400345.21400
NE_QUAD_CORNER_XY: 417304.30700 5400275.50100
SE_QUAD_CORNERY_XY: 417201.78500 5393328.18500
SW_QUAD_CORNER_XY: 412601.96500 5393397.91800
SECONDARY_NW_QUAD_XY: 412707.39600 5400126.23800
SECONDARY_NE_QUAD_XY: 417301.66500 5400056.52200
SECONDARY_SE_QUAD_XY: 417199.14200 5393109.21100
SECONDARY_SW_QUAD_XY: 412599.17600 5393178.94700
RMSE_XY: 3.56000
IMAGE_SOURCE: BLACK AND WHITE FILM
SOURCE_IMAGE_ID: NAPP 9095-202
SOURCE_IMAGE_DATE: 1996 7 9
SOURCE_DEM_DATE: 1998 0 0
AGENCY: WESTERN MAPPING CENTER (WMC)
PRODUCER: WOOLPERT LLP
PRODUCTION_SYSTEM: INTERGRAPH ISPM, ISIR
COMPRESSION: UNDEFINED
STANDARD_VERSION: 1996 12
METADATA_DATE: 2001 9 15
DATA_FILE_SIZE: 40876992
BYTE_COUNT: 5356
